BEGIN:VCALENDAR
VERSION:2.0
PRODID:-//Prairie to Pine Regional Council - ECPv6.15.20//NONSGML v1.0//EN
CALSCALE:GREGORIAN
METHOD:PUBLISH
X-WR-CALNAME:Prairie to Pine Regional Council
X-ORIGINAL-URL:https://staging.prairietopinerc.ca
X-WR-CALDESC:Events for Prairie to Pine Regional Council
REFRESH-INTERVAL;VALUE=DURATION:PT1H
X-Robots-Tag:noindex
X-PUBLISHED-TTL:PT1H
BEGIN:VTIMEZONE
TZID:America/Winnipeg
BEGIN:DAYLIGHT
TZOFFSETFROM:-0600
TZOFFSETTO:-0500
TZNAME:CDT
DTSTART:20250309T080000
END:DAYLIGHT
BEGIN:STANDARD
TZOFFSETFROM:-0500
TZOFFSETTO:-0600
TZNAME:CST
DTSTART:20251102T070000
END:STANDARD
BEGIN:DAYLIGHT
TZOFFSETFROM:-0600
TZOFFSETTO:-0500
TZNAME:CDT
DTSTART:20260308T080000
END:DAYLIGHT
BEGIN:STANDARD
TZOFFSETFROM:-0500
TZOFFSETTO:-0600
TZNAME:CST
DTSTART:20261101T070000
END:STANDARD
BEGIN:DAYLIGHT
TZOFFSETFROM:-0600
TZOFFSETTO:-0500
TZNAME:CDT
DTSTART:20270314T080000
END:DAYLIGHT
BEGIN:STANDARD
TZOFFSETFROM:-0500
TZOFFSETTO:-0600
TZNAME:CST
DTSTART:20271107T070000
END:STANDARD
END:VTIMEZONE
BEGIN:VEVENT
DTSTART;TZID=America/Winnipeg:20261208T100000
DTEND;TZID=America/Winnipeg:20261208T100000
DTSTAMP:20260424T222657
CREATED:20220112T031438Z
LAST-MODIFIED:20220112T031438Z
UID:9171-1796724000-1796724000@staging.prairietopinerc.ca
SUMMARY:Pastoral Relations Commission meeting
DESCRIPTION:
URL:https://staging.prairietopinerc.ca/event/pastoral-relations-commission-meeting-2026-12-08/
END:VEVENT
BEGIN:VEVENT
DTSTART;TZID=America/Winnipeg:20261208T150000
DTEND;TZID=America/Winnipeg:20261208T150000
DTSTAMP:20260424T222657
CREATED:20220112T004818Z
LAST-MODIFIED:20220112T004818Z
UID:9170-1796742000-1796742000@staging.prairietopinerc.ca
SUMMARY:Ministry Personnel Support Gathering
DESCRIPTION:Gatherings will be held every two weeks on Tuesday afternoon at 3:00 p.m. Here is the Zoom link information.
URL:https://staging.prairietopinerc.ca/event/ministry-personnel-support-gathering-12-2026-12-08/
END:VEVENT
BEGIN:VEVENT
DTSTART;TZID=America/Winnipeg:20261222T150000
DTEND;TZID=America/Winnipeg:20261222T150000
DTSTAMP:20260424T222657
CREATED:20220112T004818Z
LAST-MODIFIED:20220112T004818Z
UID:9180-1797951600-1797951600@staging.prairietopinerc.ca
SUMMARY:Ministry Personnel Support Gathering
DESCRIPTION:Gatherings will be held every two weeks on Tuesday afternoon at 3:00 p.m. Here is the Zoom link information.
URL:https://staging.prairietopinerc.ca/event/ministry-personnel-support-gathering-12-2026-12-22/
END:VEVENT
END:VCALENDAR