BEGIN:VCALENDAR
VERSION:2.0
PRODID:-//Prairie to Pine Regional Council - ECPv6.15.20//NONSGML v1.0//EN
CALSCALE:GREGORIAN
METHOD:PUBLISH
X-WR-CALNAME:Prairie to Pine Regional Council
X-ORIGINAL-URL:https://staging.prairietopinerc.ca
X-WR-CALDESC:Events for Prairie to Pine Regional Council
REFRESH-INTERVAL;VALUE=DURATION:PT1H
X-Robots-Tag:noindex
X-PUBLISHED-TTL:PT1H
BEGIN:VTIMEZONE
TZID:America/Winnipeg
BEGIN:DAYLIGHT
TZOFFSETFROM:-0600
TZOFFSETTO:-0500
TZNAME:CDT
DTSTART:20220313T080000
END:DAYLIGHT
BEGIN:STANDARD
TZOFFSETFROM:-0500
TZOFFSETTO:-0600
TZNAME:CST
DTSTART:20221106T070000
END:STANDARD
BEGIN:DAYLIGHT
TZOFFSETFROM:-0600
TZOFFSETTO:-0500
TZNAME:CDT
DTSTART:20230312T080000
END:DAYLIGHT
BEGIN:STANDARD
TZOFFSETFROM:-0500
TZOFFSETTO:-0600
TZNAME:CST
DTSTART:20231105T070000
END:STANDARD
BEGIN:DAYLIGHT
TZOFFSETFROM:-0600
TZOFFSETTO:-0500
TZNAME:CDT
DTSTART:20240310T080000
END:DAYLIGHT
BEGIN:STANDARD
TZOFFSETFROM:-0500
TZOFFSETTO:-0600
TZNAME:CST
DTSTART:20241103T070000
END:STANDARD
BEGIN:DAYLIGHT
TZOFFSETFROM:-0600
TZOFFSETTO:-0500
TZNAME:CDT
DTSTART:20250309T080000
END:DAYLIGHT
BEGIN:STANDARD
TZOFFSETFROM:-0500
TZOFFSETTO:-0600
TZNAME:CST
DTSTART:20251102T070000
END:STANDARD
END:VTIMEZONE
BEGIN:VEVENT
DTSTART;TZID=America/Winnipeg:20240611T100000
DTEND;TZID=America/Winnipeg:20240611T100000
DTSTAMP:20260425T090118
CREATED:20220112T031438Z
LAST-MODIFIED:20220112T031438Z
UID:9060-1718100000-1718100000@staging.prairietopinerc.ca
SUMMARY:Pastoral Relations Commission meeting
DESCRIPTION:
URL:https://staging.prairietopinerc.ca/event/pastoral-relations-commission-meeting-2024-06-11/
END:VEVENT
BEGIN:VEVENT
DTSTART;TZID=America/Winnipeg:20240528T150000
DTEND;TZID=America/Winnipeg:20240528T150000
DTSTAMP:20260425T090118
CREATED:20220112T004818Z
LAST-MODIFIED:20220112T004818Z
UID:9058-1716908400-1716908400@staging.prairietopinerc.ca
SUMMARY:Ministry Personnel Support Gathering
DESCRIPTION:Gatherings will be held every two weeks on Tuesday afternoon at 3:00 p.m. Here is the Zoom link information.
URL:https://staging.prairietopinerc.ca/event/ministry-personnel-support-gathering-12-2024-05-28/
END:VEVENT
BEGIN:VEVENT
DTSTART;TZID=America/Winnipeg:20240514T150000
DTEND;TZID=America/Winnipeg:20240514T150000
DTSTAMP:20260425T090118
CREATED:20220112T004818Z
LAST-MODIFIED:20220112T004818Z
UID:9056-1715698800-1715698800@staging.prairietopinerc.ca
SUMMARY:Ministry Personnel Support Gathering
DESCRIPTION:Gatherings will be held every two weeks on Tuesday afternoon at 3:00 p.m. Here is the Zoom link information.
URL:https://staging.prairietopinerc.ca/event/ministry-personnel-support-gathering-12-2024-05-14/
END:VEVENT
BEGIN:VEVENT
DTSTART;TZID=America/Winnipeg:20240514T100000
DTEND;TZID=America/Winnipeg:20240514T100000
DTSTAMP:20260425T090118
CREATED:20220112T031438Z
LAST-MODIFIED:20220112T031438Z
UID:9057-1715680800-1715680800@staging.prairietopinerc.ca
SUMMARY:Pastoral Relations Commission meeting
DESCRIPTION:
URL:https://staging.prairietopinerc.ca/event/pastoral-relations-commission-meeting-2024-05-14/
END:VEVENT
BEGIN:VEVENT
DTSTART;TZID=America/Winnipeg:20240430T150000
DTEND;TZID=America/Winnipeg:20240430T150000
DTSTAMP:20260425T090118
CREATED:20220112T004818Z
LAST-MODIFIED:20220112T004818Z
UID:9055-1714489200-1714489200@staging.prairietopinerc.ca
SUMMARY:Ministry Personnel Support Gathering
DESCRIPTION:Gatherings will be held every two weeks on Tuesday afternoon at 3:00 p.m. Here is the Zoom link information.
URL:https://staging.prairietopinerc.ca/event/ministry-personnel-support-gathering-12-2024-04-30/
END:VEVENT
BEGIN:VEVENT
DTSTART;TZID=America/Winnipeg:20240416T150000
DTEND;TZID=America/Winnipeg:20240416T150000
DTSTAMP:20260425T090118
CREATED:20220112T004818Z
LAST-MODIFIED:20220112T004818Z
UID:9054-1713279600-1713279600@staging.prairietopinerc.ca
SUMMARY:Ministry Personnel Support Gathering
DESCRIPTION:Gatherings will be held every two weeks on Tuesday afternoon at 3:00 p.m. Here is the Zoom link information.
URL:https://staging.prairietopinerc.ca/event/ministry-personnel-support-gathering-12-2024-04-16/
END:VEVENT
BEGIN:VEVENT
DTSTART;TZID=America/Winnipeg:20240409T100000
DTEND;TZID=America/Winnipeg:20240409T100000
DTSTAMP:20260425T090118
CREATED:20220112T031438Z
LAST-MODIFIED:20220112T031438Z
UID:9053-1712656800-1712656800@staging.prairietopinerc.ca
SUMMARY:Pastoral Relations Commission meeting
DESCRIPTION:
URL:https://staging.prairietopinerc.ca/event/pastoral-relations-commission-meeting-2024-04-09/
END:VEVENT
BEGIN:VEVENT
DTSTART;TZID=America/Winnipeg:20240402T150000
DTEND;TZID=America/Winnipeg:20240402T150000
DTSTAMP:20260425T090118
CREATED:20220112T004818Z
LAST-MODIFIED:20220112T004818Z
UID:9052-1712070000-1712070000@staging.prairietopinerc.ca
SUMMARY:Ministry Personnel Support Gathering
DESCRIPTION:Gatherings will be held every two weeks on Tuesday afternoon at 3:00 p.m. Here is the Zoom link information.
URL:https://staging.prairietopinerc.ca/event/ministry-personnel-support-gathering-12-2024-04-02/
END:VEVENT
BEGIN:VEVENT
DTSTART;TZID=America/Winnipeg:20240319T150000
DTEND;TZID=America/Winnipeg:20240319T150000
DTSTAMP:20260425T090118
CREATED:20220112T004818Z
LAST-MODIFIED:20220112T004818Z
UID:9050-1710860400-1710860400@staging.prairietopinerc.ca
SUMMARY:Ministry Personnel Support Gathering
DESCRIPTION:Gatherings will be held every two weeks on Tuesday afternoon at 3:00 p.m. Here is the Zoom link information.
URL:https://staging.prairietopinerc.ca/event/ministry-personnel-support-gathering-12-2024-03-19/
END:VEVENT
BEGIN:VEVENT
DTSTART;TZID=America/Winnipeg:20240312T100000
DTEND;TZID=America/Winnipeg:20240312T100000
DTSTAMP:20260425T090118
CREATED:20220112T031438Z
LAST-MODIFIED:20220112T031438Z
UID:9031-1710237600-1710237600@staging.prairietopinerc.ca
SUMMARY:Pastoral Relations Commission meeting
DESCRIPTION:
URL:https://staging.prairietopinerc.ca/event/pastoral-relations-commission-meeting-2024-03-12/
END:VEVENT
BEGIN:VEVENT
DTSTART;TZID=America/Winnipeg:20240305T150000
DTEND;TZID=America/Winnipeg:20240305T150000
DTSTAMP:20260425T090118
CREATED:20220112T004818Z
LAST-MODIFIED:20220112T004818Z
UID:9001-1709650800-1709650800@staging.prairietopinerc.ca
SUMMARY:Ministry Personnel Support Gathering
DESCRIPTION:Gatherings will be held every two weeks on Tuesday afternoon at 3:00 p.m. Here is the Zoom link information.
URL:https://staging.prairietopinerc.ca/event/ministry-personnel-support-gathering-12-2024-03-05/
END:VEVENT
BEGIN:VEVENT
DTSTART;TZID=America/Winnipeg:20240220T150000
DTEND;TZID=America/Winnipeg:20240220T150000
DTSTAMP:20260425T090118
CREATED:20220112T004818Z
LAST-MODIFIED:20220112T004818Z
UID:8951-1708441200-1708441200@staging.prairietopinerc.ca
SUMMARY:Ministry Personnel Support Gathering
DESCRIPTION:Gatherings will be held every two weeks on Tuesday afternoon at 3:00 p.m. Here is the Zoom link information.
URL:https://staging.prairietopinerc.ca/event/ministry-personnel-support-gathering-12-2024-02-20/
END:VEVENT
BEGIN:VEVENT
DTSTART;TZID=America/Winnipeg:20240213T100000
DTEND;TZID=America/Winnipeg:20240213T100000
DTSTAMP:20260425T090118
CREATED:20220112T031438Z
LAST-MODIFIED:20220112T031438Z
UID:8927-1707818400-1707818400@staging.prairietopinerc.ca
SUMMARY:Pastoral Relations Commission meeting
DESCRIPTION:
URL:https://staging.prairietopinerc.ca/event/pastoral-relations-commission-meeting-2024-02-13/
END:VEVENT
BEGIN:VEVENT
DTSTART;TZID=America/Winnipeg:20240206T150000
DTEND;TZID=America/Winnipeg:20240206T150000
DTSTAMP:20260425T090118
CREATED:20220112T004818Z
LAST-MODIFIED:20220112T004818Z
UID:8907-1707231600-1707231600@staging.prairietopinerc.ca
SUMMARY:Ministry Personnel Support Gathering
DESCRIPTION:Gatherings will be held every two weeks on Tuesday afternoon at 3:00 p.m. Here is the Zoom link information.
URL:https://staging.prairietopinerc.ca/event/ministry-personnel-support-gathering-12-2024-02-06/
END:VEVENT
BEGIN:VEVENT
DTSTART;TZID=America/Winnipeg:20240123T150000
DTEND;TZID=America/Winnipeg:20240123T150000
DTSTAMP:20260425T090118
CREATED:20220112T004818Z
LAST-MODIFIED:20220112T004818Z
UID:8843-1706022000-1706022000@staging.prairietopinerc.ca
SUMMARY:Ministry Personnel Support Gathering
DESCRIPTION:Gatherings will be held every two weeks on Tuesday afternoon at 3:00 p.m. Here is the Zoom link information.
URL:https://staging.prairietopinerc.ca/event/ministry-personnel-support-gathering-12-2024-01-23/
END:VEVENT
BEGIN:VEVENT
DTSTART;TZID=America/Winnipeg:20240109T150000
DTEND;TZID=America/Winnipeg:20240109T150000
DTSTAMP:20260425T090118
CREATED:20220112T004818Z
LAST-MODIFIED:20220112T004818Z
UID:8755-1704812400-1704812400@staging.prairietopinerc.ca
SUMMARY:Ministry Personnel Support Gathering
DESCRIPTION:Gatherings will be held every two weeks on Tuesday afternoon at 3:00 p.m. Here is the Zoom link information.
URL:https://staging.prairietopinerc.ca/event/ministry-personnel-support-gathering-12-2024-01-09/
END:VEVENT
BEGIN:VEVENT
DTSTART;TZID=America/Winnipeg:20240109T100000
DTEND;TZID=America/Winnipeg:20240109T100000
DTSTAMP:20260425T090118
CREATED:20220112T031438Z
LAST-MODIFIED:20220112T031438Z
UID:8780-1704794400-1704794400@staging.prairietopinerc.ca
SUMMARY:Pastoral Relations Commission meeting
DESCRIPTION:
URL:https://staging.prairietopinerc.ca/event/pastoral-relations-commission-meeting-2024-01-09/
END:VEVENT
BEGIN:VEVENT
DTSTART;TZID=America/Winnipeg:20231226T150000
DTEND;TZID=America/Winnipeg:20231226T150000
DTSTAMP:20260425T090118
CREATED:20220112T004818Z
LAST-MODIFIED:20220112T004818Z
UID:8754-1703602800-1703602800@staging.prairietopinerc.ca
SUMMARY:Ministry Personnel Support Gathering
DESCRIPTION:Gatherings will be held every two weeks on Tuesday afternoon at 3:00 p.m. Here is the Zoom link information.
URL:https://staging.prairietopinerc.ca/event/ministry-personnel-support-gathering-12-2023-12-26/
END:VEVENT
BEGIN:VEVENT
DTSTART;TZID=America/Winnipeg:20231212T150000
DTEND;TZID=America/Winnipeg:20231212T150000
DTSTAMP:20260425T090118
CREATED:20220112T004818Z
LAST-MODIFIED:20220112T004818Z
UID:8753-1702393200-1702393200@staging.prairietopinerc.ca
SUMMARY:Ministry Personnel Support Gathering
DESCRIPTION:Gatherings will be held every two weeks on Tuesday afternoon at 3:00 p.m. Here is the Zoom link information.
URL:https://staging.prairietopinerc.ca/event/ministry-personnel-support-gathering-12-2023-12-12/
END:VEVENT
BEGIN:VEVENT
DTSTART;TZID=America/Winnipeg:20231212T100000
DTEND;TZID=America/Winnipeg:20231212T100000
DTSTAMP:20260425T090118
CREATED:20220112T031438Z
LAST-MODIFIED:20220112T031438Z
UID:8779-1702375200-1702375200@staging.prairietopinerc.ca
SUMMARY:Pastoral Relations Commission meeting
DESCRIPTION:
URL:https://staging.prairietopinerc.ca/event/pastoral-relations-commission-meeting-2023-12-12/
END:VEVENT
BEGIN:VEVENT
DTSTART;TZID=America/Winnipeg:20231128T150000
DTEND;TZID=America/Winnipeg:20231128T150000
DTSTAMP:20260425T090118
CREATED:20220112T004818Z
LAST-MODIFIED:20220112T004818Z
UID:8752-1701183600-1701183600@staging.prairietopinerc.ca
SUMMARY:Ministry Personnel Support Gathering
DESCRIPTION:Gatherings will be held every two weeks on Tuesday afternoon at 3:00 p.m. Here is the Zoom link information.
URL:https://staging.prairietopinerc.ca/event/ministry-personnel-support-gathering-12-2023-11-28/
END:VEVENT
BEGIN:VEVENT
DTSTART;TZID=America/Winnipeg:20231114T150000
DTEND;TZID=America/Winnipeg:20231114T150000
DTSTAMP:20260425T090118
CREATED:20220112T004818Z
LAST-MODIFIED:20220112T004818Z
UID:8751-1699974000-1699974000@staging.prairietopinerc.ca
SUMMARY:Ministry Personnel Support Gathering
DESCRIPTION:Gatherings will be held every two weeks on Tuesday afternoon at 3:00 p.m. Here is the Zoom link information.
URL:https://staging.prairietopinerc.ca/event/ministry-personnel-support-gathering-12-2023-11-14/
END:VEVENT
BEGIN:VEVENT
DTSTART;TZID=America/Winnipeg:20231114T100000
DTEND;TZID=America/Winnipeg:20231114T100000
DTSTAMP:20260425T090118
CREATED:20220112T031438Z
LAST-MODIFIED:20220112T031438Z
UID:8778-1699956000-1699956000@staging.prairietopinerc.ca
SUMMARY:Pastoral Relations Commission meeting
DESCRIPTION:
URL:https://staging.prairietopinerc.ca/event/pastoral-relations-commission-meeting-2023-11-14/
END:VEVENT
BEGIN:VEVENT
DTSTART;TZID=America/Winnipeg:20231031T150000
DTEND;TZID=America/Winnipeg:20231031T150000
DTSTAMP:20260425T090118
CREATED:20220112T004818Z
LAST-MODIFIED:20220112T004818Z
UID:8750-1698764400-1698764400@staging.prairietopinerc.ca
SUMMARY:Ministry Personnel Support Gathering
DESCRIPTION:Gatherings will be held every two weeks on Tuesday afternoon at 3:00 p.m. Here is the Zoom link information.
URL:https://staging.prairietopinerc.ca/event/ministry-personnel-support-gathering-12-2023-10-31/
END:VEVENT
BEGIN:VEVENT
DTSTART;TZID=America/Winnipeg:20231017T150000
DTEND;TZID=America/Winnipeg:20231017T150000
DTSTAMP:20260425T090118
CREATED:20220112T004818Z
LAST-MODIFIED:20220112T004818Z
UID:8749-1697554800-1697554800@staging.prairietopinerc.ca
SUMMARY:Ministry Personnel Support Gathering
DESCRIPTION:Gatherings will be held every two weeks on Tuesday afternoon at 3:00 p.m. Here is the Zoom link information.
URL:https://staging.prairietopinerc.ca/event/ministry-personnel-support-gathering-12-2023-10-17/
END:VEVENT
BEGIN:VEVENT
DTSTART;TZID=America/Winnipeg:20231010T100000
DTEND;TZID=America/Winnipeg:20231010T100000
DTSTAMP:20260425T090118
CREATED:20220112T031438Z
LAST-MODIFIED:20220112T031438Z
UID:8777-1696932000-1696932000@staging.prairietopinerc.ca
SUMMARY:Pastoral Relations Commission meeting
DESCRIPTION:
URL:https://staging.prairietopinerc.ca/event/pastoral-relations-commission-meeting-2023-10-10/
END:VEVENT
BEGIN:VEVENT
DTSTART;TZID=America/Winnipeg:20231003T150000
DTEND;TZID=America/Winnipeg:20231003T150000
DTSTAMP:20260425T090118
CREATED:20220112T004818Z
LAST-MODIFIED:20220112T004818Z
UID:8748-1696345200-1696345200@staging.prairietopinerc.ca
SUMMARY:Ministry Personnel Support Gathering
DESCRIPTION:Gatherings will be held every two weeks on Tuesday afternoon at 3:00 p.m. Here is the Zoom link information.
URL:https://staging.prairietopinerc.ca/event/ministry-personnel-support-gathering-12-2023-10-03/
END:VEVENT
BEGIN:VEVENT
DTSTART;TZID=America/Winnipeg:20230919T150000
DTEND;TZID=America/Winnipeg:20230919T150000
DTSTAMP:20260425T090118
CREATED:20220112T004818Z
LAST-MODIFIED:20220112T004818Z
UID:8747-1695135600-1695135600@staging.prairietopinerc.ca
SUMMARY:Ministry Personnel Support Gathering
DESCRIPTION:Gatherings will be held every two weeks on Tuesday afternoon at 3:00 p.m. Here is the Zoom link information.
URL:https://staging.prairietopinerc.ca/event/ministry-personnel-support-gathering-12-2023-09-19/
END:VEVENT
BEGIN:VEVENT
DTSTART;TZID=America/Winnipeg:20230912T100000
DTEND;TZID=America/Winnipeg:20230912T100000
DTSTAMP:20260425T090118
CREATED:20220112T031438Z
LAST-MODIFIED:20220112T031438Z
UID:8776-1694512800-1694512800@staging.prairietopinerc.ca
SUMMARY:Pastoral Relations Commission meeting
DESCRIPTION:
URL:https://staging.prairietopinerc.ca/event/pastoral-relations-commission-meeting-2023-09-12/
END:VEVENT
BEGIN:VEVENT
DTSTART;TZID=America/Winnipeg:20230905T150000
DTEND;TZID=America/Winnipeg:20230905T150000
DTSTAMP:20260425T090118
CREATED:20220112T004818Z
LAST-MODIFIED:20220112T004818Z
UID:8746-1693926000-1693926000@staging.prairietopinerc.ca
SUMMARY:Ministry Personnel Support Gathering
DESCRIPTION:Gatherings will be held every two weeks on Tuesday afternoon at 3:00 p.m. Here is the Zoom link information.
URL:https://staging.prairietopinerc.ca/event/ministry-personnel-support-gathering-12-2023-09-05/
END:VEVENT
END:VCALENDAR