BEGIN:VCALENDAR
VERSION:2.0
PRODID:-//Prairie to Pine Regional Council - ECPv6.15.20//NONSGML v1.0//EN
CALSCALE:GREGORIAN
METHOD:PUBLISH
X-WR-CALNAME:Prairie to Pine Regional Council
X-ORIGINAL-URL:https://staging.prairietopinerc.ca
X-WR-CALDESC:Events for Prairie to Pine Regional Council
REFRESH-INTERVAL;VALUE=DURATION:PT1H
X-Robots-Tag:noindex
X-PUBLISHED-TTL:PT1H
BEGIN:VTIMEZONE
TZID:America/Winnipeg
BEGIN:DAYLIGHT
TZOFFSETFROM:-0600
TZOFFSETTO:-0500
TZNAME:CDT
DTSTART:20230312T080000
END:DAYLIGHT
BEGIN:STANDARD
TZOFFSETFROM:-0500
TZOFFSETTO:-0600
TZNAME:CST
DTSTART:20231105T070000
END:STANDARD
BEGIN:DAYLIGHT
TZOFFSETFROM:-0600
TZOFFSETTO:-0500
TZNAME:CDT
DTSTART:20240310T080000
END:DAYLIGHT
BEGIN:STANDARD
TZOFFSETFROM:-0500
TZOFFSETTO:-0600
TZNAME:CST
DTSTART:20241103T070000
END:STANDARD
BEGIN:DAYLIGHT
TZOFFSETFROM:-0600
TZOFFSETTO:-0500
TZNAME:CDT
DTSTART:20250309T080000
END:DAYLIGHT
BEGIN:STANDARD
TZOFFSETFROM:-0500
TZOFFSETTO:-0600
TZNAME:CST
DTSTART:20251102T070000
END:STANDARD
BEGIN:DAYLIGHT
TZOFFSETFROM:-0600
TZOFFSETTO:-0500
TZNAME:CDT
DTSTART:20260308T080000
END:DAYLIGHT
BEGIN:STANDARD
TZOFFSETFROM:-0500
TZOFFSETTO:-0600
TZNAME:CST
DTSTART:20261101T070000
END:STANDARD
END:VTIMEZONE
BEGIN:VEVENT
DTSTART;TZID=America/Winnipeg:20250610T100000
DTEND;TZID=America/Winnipeg:20250610T100000
DTSTAMP:20260425T083411
CREATED:20220112T031438Z
LAST-MODIFIED:20220112T031438Z
UID:9099-1749549600-1749549600@staging.prairietopinerc.ca
SUMMARY:Pastoral Relations Commission meeting
DESCRIPTION:
URL:https://staging.prairietopinerc.ca/event/pastoral-relations-commission-meeting-2025-06-10/
END:VEVENT
BEGIN:VEVENT
DTSTART;TZID=America/Winnipeg:20250527T150000
DTEND;TZID=America/Winnipeg:20250527T150000
DTSTAMP:20260425T083411
CREATED:20220112T004818Z
LAST-MODIFIED:20220112T004818Z
UID:9097-1748358000-1748358000@staging.prairietopinerc.ca
SUMMARY:Ministry Personnel Support Gathering
DESCRIPTION:Gatherings will be held every two weeks on Tuesday afternoon at 3:00 p.m. Here is the Zoom link information.
URL:https://staging.prairietopinerc.ca/event/ministry-personnel-support-gathering-12-2025-05-27/
END:VEVENT
BEGIN:VEVENT
DTSTART;TZID=America/Winnipeg:20250513T150000
DTEND;TZID=America/Winnipeg:20250513T150000
DTSTAMP:20260425T083411
CREATED:20220112T004818Z
LAST-MODIFIED:20220112T004818Z
UID:9095-1747148400-1747148400@staging.prairietopinerc.ca
SUMMARY:Ministry Personnel Support Gathering
DESCRIPTION:Gatherings will be held every two weeks on Tuesday afternoon at 3:00 p.m. Here is the Zoom link information.
URL:https://staging.prairietopinerc.ca/event/ministry-personnel-support-gathering-12-2025-05-13/
END:VEVENT
BEGIN:VEVENT
DTSTART;TZID=America/Winnipeg:20250513T100000
DTEND;TZID=America/Winnipeg:20250513T100000
DTSTAMP:20260425T083411
CREATED:20220112T031438Z
LAST-MODIFIED:20220112T031438Z
UID:9096-1747130400-1747130400@staging.prairietopinerc.ca
SUMMARY:Pastoral Relations Commission meeting
DESCRIPTION:
URL:https://staging.prairietopinerc.ca/event/pastoral-relations-commission-meeting-2025-05-13/
END:VEVENT
BEGIN:VEVENT
DTSTART;TZID=America/Winnipeg:20250429T150000
DTEND;TZID=America/Winnipeg:20250429T150000
DTSTAMP:20260425T083411
CREATED:20220112T004818Z
LAST-MODIFIED:20220112T004818Z
UID:9094-1745938800-1745938800@staging.prairietopinerc.ca
SUMMARY:Ministry Personnel Support Gathering
DESCRIPTION:Gatherings will be held every two weeks on Tuesday afternoon at 3:00 p.m. Here is the Zoom link information.
URL:https://staging.prairietopinerc.ca/event/ministry-personnel-support-gathering-12-2025-04-29/
END:VEVENT
BEGIN:VEVENT
DTSTART;TZID=America/Winnipeg:20250415T150000
DTEND;TZID=America/Winnipeg:20250415T150000
DTSTAMP:20260425T083411
CREATED:20220112T004818Z
LAST-MODIFIED:20220112T004818Z
UID:9093-1744729200-1744729200@staging.prairietopinerc.ca
SUMMARY:Ministry Personnel Support Gathering
DESCRIPTION:Gatherings will be held every two weeks on Tuesday afternoon at 3:00 p.m. Here is the Zoom link information.
URL:https://staging.prairietopinerc.ca/event/ministry-personnel-support-gathering-12-2025-04-15/
END:VEVENT
BEGIN:VEVENT
DTSTART;TZID=America/Winnipeg:20250408T100000
DTEND;TZID=America/Winnipeg:20250408T100000
DTSTAMP:20260425T083411
CREATED:20220112T031438Z
LAST-MODIFIED:20220112T031438Z
UID:9092-1744106400-1744106400@staging.prairietopinerc.ca
SUMMARY:Pastoral Relations Commission meeting
DESCRIPTION:
URL:https://staging.prairietopinerc.ca/event/pastoral-relations-commission-meeting-2025-04-08/
END:VEVENT
BEGIN:VEVENT
DTSTART;TZID=America/Winnipeg:20250401T150000
DTEND;TZID=America/Winnipeg:20250401T150000
DTSTAMP:20260425T083411
CREATED:20220112T004818Z
LAST-MODIFIED:20220112T004818Z
UID:9091-1743519600-1743519600@staging.prairietopinerc.ca
SUMMARY:Ministry Personnel Support Gathering
DESCRIPTION:Gatherings will be held every two weeks on Tuesday afternoon at 3:00 p.m. Here is the Zoom link information.
URL:https://staging.prairietopinerc.ca/event/ministry-personnel-support-gathering-12-2025-04-01/
END:VEVENT
BEGIN:VEVENT
DTSTART;TZID=America/Winnipeg:20250318T150000
DTEND;TZID=America/Winnipeg:20250318T150000
DTSTAMP:20260425T083411
CREATED:20220112T004818Z
LAST-MODIFIED:20220112T004818Z
UID:9090-1742310000-1742310000@staging.prairietopinerc.ca
SUMMARY:Ministry Personnel Support Gathering
DESCRIPTION:Gatherings will be held every two weeks on Tuesday afternoon at 3:00 p.m. Here is the Zoom link information.
URL:https://staging.prairietopinerc.ca/event/ministry-personnel-support-gathering-12-2025-03-18/
END:VEVENT
BEGIN:VEVENT
DTSTART;TZID=America/Winnipeg:20250311T100000
DTEND;TZID=America/Winnipeg:20250311T100000
DTSTAMP:20260425T083411
CREATED:20220112T031438Z
LAST-MODIFIED:20220112T031438Z
UID:9089-1741687200-1741687200@staging.prairietopinerc.ca
SUMMARY:Pastoral Relations Commission meeting
DESCRIPTION:
URL:https://staging.prairietopinerc.ca/event/pastoral-relations-commission-meeting-2025-03-11/
END:VEVENT
BEGIN:VEVENT
DTSTART;TZID=America/Winnipeg:20250304T150000
DTEND;TZID=America/Winnipeg:20250304T150000
DTSTAMP:20260425T083411
CREATED:20220112T004818Z
LAST-MODIFIED:20220112T004818Z
UID:9088-1741100400-1741100400@staging.prairietopinerc.ca
SUMMARY:Ministry Personnel Support Gathering
DESCRIPTION:Gatherings will be held every two weeks on Tuesday afternoon at 3:00 p.m. Here is the Zoom link information.
URL:https://staging.prairietopinerc.ca/event/ministry-personnel-support-gathering-12-2025-03-04/
END:VEVENT
BEGIN:VEVENT
DTSTART;TZID=America/Winnipeg:20250218T150000
DTEND;TZID=America/Winnipeg:20250218T150000
DTSTAMP:20260425T083411
CREATED:20220112T004818Z
LAST-MODIFIED:20220112T004818Z
UID:9087-1739890800-1739890800@staging.prairietopinerc.ca
SUMMARY:Ministry Personnel Support Gathering
DESCRIPTION:Gatherings will be held every two weeks on Tuesday afternoon at 3:00 p.m. Here is the Zoom link information.
URL:https://staging.prairietopinerc.ca/event/ministry-personnel-support-gathering-12-2025-02-18/
END:VEVENT
BEGIN:VEVENT
DTSTART;TZID=America/Winnipeg:20250211T100000
DTEND;TZID=America/Winnipeg:20250211T100000
DTSTAMP:20260425T083411
CREATED:20220112T031438Z
LAST-MODIFIED:20220112T031438Z
UID:9086-1739268000-1739268000@staging.prairietopinerc.ca
SUMMARY:Pastoral Relations Commission meeting
DESCRIPTION:
URL:https://staging.prairietopinerc.ca/event/pastoral-relations-commission-meeting-2025-02-11/
END:VEVENT
BEGIN:VEVENT
DTSTART;TZID=America/Winnipeg:20250204T150000
DTEND;TZID=America/Winnipeg:20250204T150000
DTSTAMP:20260425T083411
CREATED:20220112T004818Z
LAST-MODIFIED:20220112T004818Z
UID:9085-1738681200-1738681200@staging.prairietopinerc.ca
SUMMARY:Ministry Personnel Support Gathering
DESCRIPTION:Gatherings will be held every two weeks on Tuesday afternoon at 3:00 p.m. Here is the Zoom link information.
URL:https://staging.prairietopinerc.ca/event/ministry-personnel-support-gathering-12-2025-02-04/
END:VEVENT
BEGIN:VEVENT
DTSTART;TZID=America/Winnipeg:20250121T150000
DTEND;TZID=America/Winnipeg:20250121T150000
DTSTAMP:20260425T083411
CREATED:20220112T004818Z
LAST-MODIFIED:20220112T004818Z
UID:9084-1737471600-1737471600@staging.prairietopinerc.ca
SUMMARY:Ministry Personnel Support Gathering
DESCRIPTION:Gatherings will be held every two weeks on Tuesday afternoon at 3:00 p.m. Here is the Zoom link information.
URL:https://staging.prairietopinerc.ca/event/ministry-personnel-support-gathering-12-2025-01-21/
END:VEVENT
BEGIN:VEVENT
DTSTART;TZID=America/Winnipeg:20250114T100000
DTEND;TZID=America/Winnipeg:20250114T100000
DTSTAMP:20260425T083411
CREATED:20220112T031438Z
LAST-MODIFIED:20220112T031438Z
UID:9083-1736848800-1736848800@staging.prairietopinerc.ca
SUMMARY:Pastoral Relations Commission meeting
DESCRIPTION:
URL:https://staging.prairietopinerc.ca/event/pastoral-relations-commission-meeting-2025-01-14/
END:VEVENT
BEGIN:VEVENT
DTSTART;TZID=America/Winnipeg:20250107T150000
DTEND;TZID=America/Winnipeg:20250107T150000
DTSTAMP:20260425T083411
CREATED:20220112T004818Z
LAST-MODIFIED:20220112T004818Z
UID:9082-1736262000-1736262000@staging.prairietopinerc.ca
SUMMARY:Ministry Personnel Support Gathering
DESCRIPTION:Gatherings will be held every two weeks on Tuesday afternoon at 3:00 p.m. Here is the Zoom link information.
URL:https://staging.prairietopinerc.ca/event/ministry-personnel-support-gathering-12-2025-01-07/
END:VEVENT
BEGIN:VEVENT
DTSTART;TZID=America/Winnipeg:20241224T150000
DTEND;TZID=America/Winnipeg:20241224T150000
DTSTAMP:20260425T083412
CREATED:20220112T004818Z
LAST-MODIFIED:20220112T004818Z
UID:9081-1735052400-1735052400@staging.prairietopinerc.ca
SUMMARY:Ministry Personnel Support Gathering
DESCRIPTION:Gatherings will be held every two weeks on Tuesday afternoon at 3:00 p.m. Here is the Zoom link information.
URL:https://staging.prairietopinerc.ca/event/ministry-personnel-support-gathering-12-2024-12-24/
END:VEVENT
BEGIN:VEVENT
DTSTART;TZID=America/Winnipeg:20241210T150000
DTEND;TZID=America/Winnipeg:20241210T150000
DTSTAMP:20260425T083412
CREATED:20220112T004818Z
LAST-MODIFIED:20220112T004818Z
UID:9079-1733842800-1733842800@staging.prairietopinerc.ca
SUMMARY:Ministry Personnel Support Gathering
DESCRIPTION:Gatherings will be held every two weeks on Tuesday afternoon at 3:00 p.m. Here is the Zoom link information.
URL:https://staging.prairietopinerc.ca/event/ministry-personnel-support-gathering-12-2024-12-10/
END:VEVENT
BEGIN:VEVENT
DTSTART;TZID=America/Winnipeg:20241210T100000
DTEND;TZID=America/Winnipeg:20241210T100000
DTSTAMP:20260425T083412
CREATED:20220112T031438Z
LAST-MODIFIED:20220112T031438Z
UID:9080-1733824800-1733824800@staging.prairietopinerc.ca
SUMMARY:Pastoral Relations Commission meeting
DESCRIPTION:
URL:https://staging.prairietopinerc.ca/event/pastoral-relations-commission-meeting-2024-12-10/
END:VEVENT
BEGIN:VEVENT
DTSTART;TZID=America/Winnipeg:20241126T150000
DTEND;TZID=America/Winnipeg:20241126T150000
DTSTAMP:20260425T083412
CREATED:20220112T004818Z
LAST-MODIFIED:20220112T004818Z
UID:9078-1732633200-1732633200@staging.prairietopinerc.ca
SUMMARY:Ministry Personnel Support Gathering
DESCRIPTION:Gatherings will be held every two weeks on Tuesday afternoon at 3:00 p.m. Here is the Zoom link information.
URL:https://staging.prairietopinerc.ca/event/ministry-personnel-support-gathering-12-2024-11-26/
END:VEVENT
BEGIN:VEVENT
DTSTART;TZID=America/Winnipeg:20241112T150000
DTEND;TZID=America/Winnipeg:20241112T150000
DTSTAMP:20260425T083412
CREATED:20220112T004818Z
LAST-MODIFIED:20220112T004818Z
UID:9076-1731423600-1731423600@staging.prairietopinerc.ca
SUMMARY:Ministry Personnel Support Gathering
DESCRIPTION:Gatherings will be held every two weeks on Tuesday afternoon at 3:00 p.m. Here is the Zoom link information.
URL:https://staging.prairietopinerc.ca/event/ministry-personnel-support-gathering-12-2024-11-12/
END:VEVENT
BEGIN:VEVENT
DTSTART;TZID=America/Winnipeg:20241112T100000
DTEND;TZID=America/Winnipeg:20241112T100000
DTSTAMP:20260425T083412
CREATED:20220112T031438Z
LAST-MODIFIED:20220112T031438Z
UID:9077-1731405600-1731405600@staging.prairietopinerc.ca
SUMMARY:Pastoral Relations Commission meeting
DESCRIPTION:
URL:https://staging.prairietopinerc.ca/event/pastoral-relations-commission-meeting-2024-11-12/
END:VEVENT
BEGIN:VEVENT
DTSTART;TZID=America/Winnipeg:20241029T150000
DTEND;TZID=America/Winnipeg:20241029T150000
DTSTAMP:20260425T083412
CREATED:20220112T004818Z
LAST-MODIFIED:20220112T004818Z
UID:9075-1730214000-1730214000@staging.prairietopinerc.ca
SUMMARY:Ministry Personnel Support Gathering
DESCRIPTION:Gatherings will be held every two weeks on Tuesday afternoon at 3:00 p.m. Here is the Zoom link information.
URL:https://staging.prairietopinerc.ca/event/ministry-personnel-support-gathering-12-2024-10-29/
END:VEVENT
BEGIN:VEVENT
DTSTART;TZID=America/Winnipeg:20241015T150000
DTEND;TZID=America/Winnipeg:20241015T150000
DTSTAMP:20260425T083412
CREATED:20220112T004818Z
LAST-MODIFIED:20220112T004818Z
UID:9074-1729004400-1729004400@staging.prairietopinerc.ca
SUMMARY:Ministry Personnel Support Gathering
DESCRIPTION:Gatherings will be held every two weeks on Tuesday afternoon at 3:00 p.m. Here is the Zoom link information.
URL:https://staging.prairietopinerc.ca/event/ministry-personnel-support-gathering-12-2024-10-15/
END:VEVENT
BEGIN:VEVENT
DTSTART;TZID=America/Winnipeg:20241008T100000
DTEND;TZID=America/Winnipeg:20241008T100000
DTSTAMP:20260425T083412
CREATED:20220112T031438Z
LAST-MODIFIED:20220112T031438Z
UID:9073-1728381600-1728381600@staging.prairietopinerc.ca
SUMMARY:Pastoral Relations Commission meeting
DESCRIPTION:
URL:https://staging.prairietopinerc.ca/event/pastoral-relations-commission-meeting-2024-10-08/
END:VEVENT
BEGIN:VEVENT
DTSTART;TZID=America/Winnipeg:20241001T150000
DTEND;TZID=America/Winnipeg:20241001T150000
DTSTAMP:20260425T083412
CREATED:20220112T004818Z
LAST-MODIFIED:20220112T004818Z
UID:9072-1727794800-1727794800@staging.prairietopinerc.ca
SUMMARY:Ministry Personnel Support Gathering
DESCRIPTION:Gatherings will be held every two weeks on Tuesday afternoon at 3:00 p.m. Here is the Zoom link information.
URL:https://staging.prairietopinerc.ca/event/ministry-personnel-support-gathering-12-2024-10-01/
END:VEVENT
BEGIN:VEVENT
DTSTART;TZID=America/Winnipeg:20240917T150000
DTEND;TZID=America/Winnipeg:20240917T150000
DTSTAMP:20260425T083412
CREATED:20220112T004818Z
LAST-MODIFIED:20220112T004818Z
UID:9071-1726585200-1726585200@staging.prairietopinerc.ca
SUMMARY:Ministry Personnel Support Gathering
DESCRIPTION:Gatherings will be held every two weeks on Tuesday afternoon at 3:00 p.m. Here is the Zoom link information.
URL:https://staging.prairietopinerc.ca/event/ministry-personnel-support-gathering-12-2024-09-17/
END:VEVENT
BEGIN:VEVENT
DTSTART;TZID=America/Winnipeg:20240910T100000
DTEND;TZID=America/Winnipeg:20240910T100000
DTSTAMP:20260425T083412
CREATED:20220112T031438Z
LAST-MODIFIED:20220112T031438Z
UID:9070-1725962400-1725962400@staging.prairietopinerc.ca
SUMMARY:Pastoral Relations Commission meeting
DESCRIPTION:
URL:https://staging.prairietopinerc.ca/event/pastoral-relations-commission-meeting-2024-09-10/
END:VEVENT
BEGIN:VEVENT
DTSTART;TZID=America/Winnipeg:20240903T150000
DTEND;TZID=America/Winnipeg:20240903T150000
DTSTAMP:20260425T083412
CREATED:20220112T004818Z
LAST-MODIFIED:20220112T004818Z
UID:9068-1725375600-1725375600@staging.prairietopinerc.ca
SUMMARY:Ministry Personnel Support Gathering
DESCRIPTION:Gatherings will be held every two weeks on Tuesday afternoon at 3:00 p.m. Here is the Zoom link information.
URL:https://staging.prairietopinerc.ca/event/ministry-personnel-support-gathering-12-2024-09-03/
END:VEVENT
END:VCALENDAR