BEGIN:VCALENDAR
VERSION:2.0
PRODID:-//Prairie to Pine Regional Council - ECPv6.15.20//NONSGML v1.0//EN
CALSCALE:GREGORIAN
METHOD:PUBLISH
X-ORIGINAL-URL:https://staging.prairietopinerc.ca
X-WR-CALDESC:Events for Prairie to Pine Regional Council
REFRESH-INTERVAL;VALUE=DURATION:PT1H
X-Robots-Tag:noindex
X-PUBLISHED-TTL:PT1H
BEGIN:VTIMEZONE
TZID:America/Winnipeg
BEGIN:DAYLIGHT
TZOFFSETFROM:-0600
TZOFFSETTO:-0500
TZNAME:CDT
DTSTART:20250309T080000
END:DAYLIGHT
BEGIN:STANDARD
TZOFFSETFROM:-0500
TZOFFSETTO:-0600
TZNAME:CST
DTSTART:20251102T070000
END:STANDARD
BEGIN:DAYLIGHT
TZOFFSETFROM:-0600
TZOFFSETTO:-0500
TZNAME:CDT
DTSTART:20260308T080000
END:DAYLIGHT
BEGIN:STANDARD
TZOFFSETFROM:-0500
TZOFFSETTO:-0600
TZNAME:CST
DTSTART:20261101T070000
END:STANDARD
BEGIN:DAYLIGHT
TZOFFSETFROM:-0600
TZOFFSETTO:-0500
TZNAME:CDT
DTSTART:20270314T080000
END:DAYLIGHT
BEGIN:STANDARD
TZOFFSETFROM:-0500
TZOFFSETTO:-0600
TZNAME:CST
DTSTART:20271107T070000
END:STANDARD
BEGIN:DAYLIGHT
TZOFFSETFROM:-0600
TZOFFSETTO:-0500
TZNAME:CDT
DTSTART:20280312T080000
END:DAYLIGHT
BEGIN:STANDARD
TZOFFSETFROM:-0500
TZOFFSETTO:-0600
TZNAME:CST
DTSTART:20281105T070000
END:STANDARD
END:VTIMEZONE
BEGIN:VEVENT
DTSTART;TZID=America/Winnipeg:20260526T150000
DTEND;TZID=America/Winnipeg:20260526T150000
DTSTAMP:20260425T071001
CREATED:20220112T004818Z
LAST-MODIFIED:20220112T004818Z
UID:9146-1779807600-1779807600@staging.prairietopinerc.ca
SUMMARY:Ministry Personnel Support Gathering
DESCRIPTION:Gatherings will be held every two weeks on Tuesday afternoon at 3:00 p.m. Here is the Zoom link information.
URL:https://staging.prairietopinerc.ca/event/ministry-personnel-support-gathering-12-2026-05-26/
END:VEVENT
BEGIN:VEVENT
DTSTART;TZID=America/Winnipeg:20260609T100000
DTEND;TZID=America/Winnipeg:20260609T100000
DTSTAMP:20260425T071001
CREATED:20220112T031438Z
LAST-MODIFIED:20220112T031438Z
UID:9148-1780999200-1780999200@staging.prairietopinerc.ca
SUMMARY:Pastoral Relations Commission meeting
DESCRIPTION:
URL:https://staging.prairietopinerc.ca/event/pastoral-relations-commission-meeting-2026-06-09/
END:VEVENT
BEGIN:VEVENT
DTSTART;TZID=America/Winnipeg:20260609T150000
DTEND;TZID=America/Winnipeg:20260609T150000
DTSTAMP:20260425T071001
CREATED:20220112T004818Z
LAST-MODIFIED:20220112T004818Z
UID:9147-1781017200-1781017200@staging.prairietopinerc.ca
SUMMARY:Ministry Personnel Support Gathering
DESCRIPTION:Gatherings will be held every two weeks on Tuesday afternoon at 3:00 p.m. Here is the Zoom link information.
URL:https://staging.prairietopinerc.ca/event/ministry-personnel-support-gathering-12-2026-06-09/
END:VEVENT
BEGIN:VEVENT
DTSTART;TZID=America/Winnipeg:20260623T150000
DTEND;TZID=America/Winnipeg:20260623T150000
DTSTAMP:20260425T071001
CREATED:20220112T004818Z
LAST-MODIFIED:20220112T004818Z
UID:9149-1782226800-1782226800@staging.prairietopinerc.ca
SUMMARY:Ministry Personnel Support Gathering
DESCRIPTION:Gatherings will be held every two weeks on Tuesday afternoon at 3:00 p.m. Here is the Zoom link information.
URL:https://staging.prairietopinerc.ca/event/ministry-personnel-support-gathering-12-2026-06-23/
END:VEVENT
BEGIN:VEVENT
DTSTART;TZID=America/Winnipeg:20260707T150000
DTEND;TZID=America/Winnipeg:20260707T150000
DTSTAMP:20260425T071001
CREATED:20220112T004818Z
LAST-MODIFIED:20220112T004818Z
UID:9150-1783436400-1783436400@staging.prairietopinerc.ca
SUMMARY:Ministry Personnel Support Gathering
DESCRIPTION:Gatherings will be held every two weeks on Tuesday afternoon at 3:00 p.m. Here is the Zoom link information.
URL:https://staging.prairietopinerc.ca/event/ministry-personnel-support-gathering-12-2026-07-07/
END:VEVENT
BEGIN:VEVENT
DTSTART;TZID=America/Winnipeg:20260714T100000
DTEND;TZID=America/Winnipeg:20260714T100000
DTSTAMP:20260425T071001
CREATED:20220112T031438Z
LAST-MODIFIED:20220112T031438Z
UID:9151-1784023200-1784023200@staging.prairietopinerc.ca
SUMMARY:Pastoral Relations Commission meeting
DESCRIPTION:
URL:https://staging.prairietopinerc.ca/event/pastoral-relations-commission-meeting-2026-07-14/
END:VEVENT
BEGIN:VEVENT
DTSTART;TZID=America/Winnipeg:20260721T150000
DTEND;TZID=America/Winnipeg:20260721T150000
DTSTAMP:20260425T071001
CREATED:20220112T004818Z
LAST-MODIFIED:20220112T004818Z
UID:9152-1784646000-1784646000@staging.prairietopinerc.ca
SUMMARY:Ministry Personnel Support Gathering
DESCRIPTION:Gatherings will be held every two weeks on Tuesday afternoon at 3:00 p.m. Here is the Zoom link information.
URL:https://staging.prairietopinerc.ca/event/ministry-personnel-support-gathering-12-2026-07-21/
END:VEVENT
BEGIN:VEVENT
DTSTART;TZID=America/Winnipeg:20260804T150000
DTEND;TZID=America/Winnipeg:20260804T150000
DTSTAMP:20260425T071001
CREATED:20220112T004818Z
LAST-MODIFIED:20220112T004818Z
UID:9153-1785855600-1785855600@staging.prairietopinerc.ca
SUMMARY:Ministry Personnel Support Gathering
DESCRIPTION:Gatherings will be held every two weeks on Tuesday afternoon at 3:00 p.m. Here is the Zoom link information.
URL:https://staging.prairietopinerc.ca/event/ministry-personnel-support-gathering-12-2026-08-04/
END:VEVENT
BEGIN:VEVENT
DTSTART;TZID=America/Winnipeg:20260811T100000
DTEND;TZID=America/Winnipeg:20260811T100000
DTSTAMP:20260425T071001
CREATED:20220112T031438Z
LAST-MODIFIED:20220112T031438Z
UID:9154-1786442400-1786442400@staging.prairietopinerc.ca
SUMMARY:Pastoral Relations Commission meeting
DESCRIPTION:
URL:https://staging.prairietopinerc.ca/event/pastoral-relations-commission-meeting-2026-08-11/
END:VEVENT
BEGIN:VEVENT
DTSTART;TZID=America/Winnipeg:20260818T150000
DTEND;TZID=America/Winnipeg:20260818T150000
DTSTAMP:20260425T071001
CREATED:20220112T004818Z
LAST-MODIFIED:20220112T004818Z
UID:9155-1787065200-1787065200@staging.prairietopinerc.ca
SUMMARY:Ministry Personnel Support Gathering
DESCRIPTION:Gatherings will be held every two weeks on Tuesday afternoon at 3:00 p.m. Here is the Zoom link information.
URL:https://staging.prairietopinerc.ca/event/ministry-personnel-support-gathering-12-2026-08-18/
END:VEVENT
BEGIN:VEVENT
DTSTART;TZID=America/Winnipeg:20260901T150000
DTEND;TZID=America/Winnipeg:20260901T150000
DTSTAMP:20260425T071001
CREATED:20220112T004818Z
LAST-MODIFIED:20220112T004818Z
UID:9156-1788274800-1788274800@staging.prairietopinerc.ca
SUMMARY:Ministry Personnel Support Gathering
DESCRIPTION:Gatherings will be held every two weeks on Tuesday afternoon at 3:00 p.m. Here is the Zoom link information.
URL:https://staging.prairietopinerc.ca/event/ministry-personnel-support-gathering-12-2026-09-01/
END:VEVENT
BEGIN:VEVENT
DTSTART;TZID=America/Winnipeg:20260908T100000
DTEND;TZID=America/Winnipeg:20260908T100000
DTSTAMP:20260425T071001
CREATED:20220112T031438Z
LAST-MODIFIED:20220112T031438Z
UID:9157-1788861600-1788861600@staging.prairietopinerc.ca
SUMMARY:Pastoral Relations Commission meeting
DESCRIPTION:
URL:https://staging.prairietopinerc.ca/event/pastoral-relations-commission-meeting-2026-09-08/
END:VEVENT
BEGIN:VEVENT
DTSTART;TZID=America/Winnipeg:20260915T150000
DTEND;TZID=America/Winnipeg:20260915T150000
DTSTAMP:20260425T071001
CREATED:20220112T004818Z
LAST-MODIFIED:20220112T004818Z
UID:9158-1789484400-1789484400@staging.prairietopinerc.ca
SUMMARY:Ministry Personnel Support Gathering
DESCRIPTION:Gatherings will be held every two weeks on Tuesday afternoon at 3:00 p.m. Here is the Zoom link information.
URL:https://staging.prairietopinerc.ca/event/ministry-personnel-support-gathering-12-2026-09-15/
END:VEVENT
BEGIN:VEVENT
DTSTART;TZID=America/Winnipeg:20260929T150000
DTEND;TZID=America/Winnipeg:20260929T150000
DTSTAMP:20260425T071001
CREATED:20220112T004818Z
LAST-MODIFIED:20220112T004818Z
UID:9159-1790694000-1790694000@staging.prairietopinerc.ca
SUMMARY:Ministry Personnel Support Gathering
DESCRIPTION:Gatherings will be held every two weeks on Tuesday afternoon at 3:00 p.m. Here is the Zoom link information.
URL:https://staging.prairietopinerc.ca/event/ministry-personnel-support-gathering-12-2026-09-29/
END:VEVENT
BEGIN:VEVENT
DTSTART;TZID=America/Winnipeg:20261013T100000
DTEND;TZID=America/Winnipeg:20261013T100000
DTSTAMP:20260425T071001
CREATED:20220112T031438Z
LAST-MODIFIED:20220112T031438Z
UID:9163-1791885600-1791885600@staging.prairietopinerc.ca
SUMMARY:Pastoral Relations Commission meeting
DESCRIPTION:
URL:https://staging.prairietopinerc.ca/event/pastoral-relations-commission-meeting-2026-10-13/
END:VEVENT
BEGIN:VEVENT
DTSTART;TZID=America/Winnipeg:20261013T150000
DTEND;TZID=America/Winnipeg:20261013T150000
DTSTAMP:20260425T071001
CREATED:20220112T004818Z
LAST-MODIFIED:20220112T004818Z
UID:9162-1791903600-1791903600@staging.prairietopinerc.ca
SUMMARY:Ministry Personnel Support Gathering
DESCRIPTION:Gatherings will be held every two weeks on Tuesday afternoon at 3:00 p.m. Here is the Zoom link information.
URL:https://staging.prairietopinerc.ca/event/ministry-personnel-support-gathering-12-2026-10-13/
END:VEVENT
BEGIN:VEVENT
DTSTART;TZID=America/Winnipeg:20261027T150000
DTEND;TZID=America/Winnipeg:20261027T150000
DTSTAMP:20260425T071001
CREATED:20220112T004818Z
LAST-MODIFIED:20220112T004818Z
UID:9164-1793113200-1793113200@staging.prairietopinerc.ca
SUMMARY:Ministry Personnel Support Gathering
DESCRIPTION:Gatherings will be held every two weeks on Tuesday afternoon at 3:00 p.m. Here is the Zoom link information.
URL:https://staging.prairietopinerc.ca/event/ministry-personnel-support-gathering-12-2026-10-27/
END:VEVENT
BEGIN:VEVENT
DTSTART;TZID=America/Winnipeg:20261110T100000
DTEND;TZID=America/Winnipeg:20261110T100000
DTSTAMP:20260425T071001
CREATED:20220112T031438Z
LAST-MODIFIED:20220112T031438Z
UID:9168-1794304800-1794304800@staging.prairietopinerc.ca
SUMMARY:Pastoral Relations Commission meeting
DESCRIPTION:
URL:https://staging.prairietopinerc.ca/event/pastoral-relations-commission-meeting-2026-11-10/
END:VEVENT
BEGIN:VEVENT
DTSTART;TZID=America/Winnipeg:20261110T150000
DTEND;TZID=America/Winnipeg:20261110T150000
DTSTAMP:20260425T071001
CREATED:20220112T004818Z
LAST-MODIFIED:20220112T004818Z
UID:9167-1794322800-1794322800@staging.prairietopinerc.ca
SUMMARY:Ministry Personnel Support Gathering
DESCRIPTION:Gatherings will be held every two weeks on Tuesday afternoon at 3:00 p.m. Here is the Zoom link information.
URL:https://staging.prairietopinerc.ca/event/ministry-personnel-support-gathering-12-2026-11-10/
END:VEVENT
BEGIN:VEVENT
DTSTART;TZID=America/Winnipeg:20261124T150000
DTEND;TZID=America/Winnipeg:20261124T150000
DTSTAMP:20260425T071001
CREATED:20220112T004818Z
LAST-MODIFIED:20220112T004818Z
UID:9169-1795532400-1795532400@staging.prairietopinerc.ca
SUMMARY:Ministry Personnel Support Gathering
DESCRIPTION:Gatherings will be held every two weeks on Tuesday afternoon at 3:00 p.m. Here is the Zoom link information.
URL:https://staging.prairietopinerc.ca/event/ministry-personnel-support-gathering-12-2026-11-24/
END:VEVENT
BEGIN:VEVENT
DTSTART;TZID=America/Winnipeg:20261208T100000
DTEND;TZID=America/Winnipeg:20261208T100000
DTSTAMP:20260425T071001
CREATED:20220112T031438Z
LAST-MODIFIED:20220112T031438Z
UID:9171-1796724000-1796724000@staging.prairietopinerc.ca
SUMMARY:Pastoral Relations Commission meeting
DESCRIPTION:
URL:https://staging.prairietopinerc.ca/event/pastoral-relations-commission-meeting-2026-12-08/
END:VEVENT
BEGIN:VEVENT
DTSTART;TZID=America/Winnipeg:20261208T150000
DTEND;TZID=America/Winnipeg:20261208T150000
DTSTAMP:20260425T071001
CREATED:20220112T004818Z
LAST-MODIFIED:20220112T004818Z
UID:9170-1796742000-1796742000@staging.prairietopinerc.ca
SUMMARY:Ministry Personnel Support Gathering
DESCRIPTION:Gatherings will be held every two weeks on Tuesday afternoon at 3:00 p.m. Here is the Zoom link information.
URL:https://staging.prairietopinerc.ca/event/ministry-personnel-support-gathering-12-2026-12-08/
END:VEVENT
BEGIN:VEVENT
DTSTART;TZID=America/Winnipeg:20261222T150000
DTEND;TZID=America/Winnipeg:20261222T150000
DTSTAMP:20260425T071001
CREATED:20220112T004818Z
LAST-MODIFIED:20220112T004818Z
UID:9180-1797951600-1797951600@staging.prairietopinerc.ca
SUMMARY:Ministry Personnel Support Gathering
DESCRIPTION:Gatherings will be held every two weeks on Tuesday afternoon at 3:00 p.m. Here is the Zoom link information.
URL:https://staging.prairietopinerc.ca/event/ministry-personnel-support-gathering-12-2026-12-22/
END:VEVENT
BEGIN:VEVENT
DTSTART;TZID=America/Winnipeg:20270105T150000
DTEND;TZID=America/Winnipeg:20270105T150000
DTSTAMP:20260425T071001
CREATED:20220112T004818Z
LAST-MODIFIED:20220112T004818Z
UID:9181-1799161200-1799161200@staging.prairietopinerc.ca
SUMMARY:Ministry Personnel Support Gathering
DESCRIPTION:Gatherings will be held every two weeks on Tuesday afternoon at 3:00 p.m. Here is the Zoom link information.
URL:https://staging.prairietopinerc.ca/event/ministry-personnel-support-gathering-12-2027-01-05/
END:VEVENT
BEGIN:VEVENT
DTSTART;TZID=America/Winnipeg:20270112T100000
DTEND;TZID=America/Winnipeg:20270112T100000
DTSTAMP:20260425T071001
CREATED:20220112T031438Z
LAST-MODIFIED:20220112T031438Z
UID:9183-1799748000-1799748000@staging.prairietopinerc.ca
SUMMARY:Pastoral Relations Commission meeting
DESCRIPTION:
URL:https://staging.prairietopinerc.ca/event/pastoral-relations-commission-meeting-2027-01-12/
END:VEVENT
BEGIN:VEVENT
DTSTART;TZID=America/Winnipeg:20270119T150000
DTEND;TZID=America/Winnipeg:20270119T150000
DTSTAMP:20260425T071001
CREATED:20220112T004818Z
LAST-MODIFIED:20220112T004818Z
UID:9186-1800370800-1800370800@staging.prairietopinerc.ca
SUMMARY:Ministry Personnel Support Gathering
DESCRIPTION:Gatherings will be held every two weeks on Tuesday afternoon at 3:00 p.m. Here is the Zoom link information.
URL:https://staging.prairietopinerc.ca/event/ministry-personnel-support-gathering-12-2027-01-19/
END:VEVENT
BEGIN:VEVENT
DTSTART;TZID=America/Winnipeg:20270202T150000
DTEND;TZID=America/Winnipeg:20270202T150000
DTSTAMP:20260425T071001
CREATED:20220112T004818Z
LAST-MODIFIED:20220112T004818Z
UID:9191-1801580400-1801580400@staging.prairietopinerc.ca
SUMMARY:Ministry Personnel Support Gathering
DESCRIPTION:Gatherings will be held every two weeks on Tuesday afternoon at 3:00 p.m. Here is the Zoom link information.
URL:https://staging.prairietopinerc.ca/event/ministry-personnel-support-gathering-12-2027-02-02/
END:VEVENT
BEGIN:VEVENT
DTSTART;TZID=America/Winnipeg:20270209T100000
DTEND;TZID=America/Winnipeg:20270209T100000
DTSTAMP:20260425T071001
CREATED:20220112T031438Z
LAST-MODIFIED:20220112T031438Z
UID:9192-1802167200-1802167200@staging.prairietopinerc.ca
SUMMARY:Pastoral Relations Commission meeting
DESCRIPTION:
URL:https://staging.prairietopinerc.ca/event/pastoral-relations-commission-meeting-2027-02-09/
END:VEVENT
BEGIN:VEVENT
DTSTART;TZID=America/Winnipeg:20270216T150000
DTEND;TZID=America/Winnipeg:20270216T150000
DTSTAMP:20260425T071001
CREATED:20220112T004818Z
LAST-MODIFIED:20220112T004818Z
UID:9193-1802790000-1802790000@staging.prairietopinerc.ca
SUMMARY:Ministry Personnel Support Gathering
DESCRIPTION:Gatherings will be held every two weeks on Tuesday afternoon at 3:00 p.m. Here is the Zoom link information.
URL:https://staging.prairietopinerc.ca/event/ministry-personnel-support-gathering-12-2027-02-16/
END:VEVENT
BEGIN:VEVENT
DTSTART;TZID=America/Winnipeg:20270302T150000
DTEND;TZID=America/Winnipeg:20270302T150000
DTSTAMP:20260425T071001
CREATED:20220112T004818Z
LAST-MODIFIED:20220112T004818Z
UID:9204-1803999600-1803999600@staging.prairietopinerc.ca
SUMMARY:Ministry Personnel Support Gathering
DESCRIPTION:Gatherings will be held every two weeks on Tuesday afternoon at 3:00 p.m. Here is the Zoom link information.
URL:https://staging.prairietopinerc.ca/event/ministry-personnel-support-gathering-12-2027-03-02/
END:VEVENT
END:VCALENDAR