BEGIN:VCALENDAR
VERSION:2.0
PRODID:-//Prairie to Pine Regional Council - ECPv6.15.20//NONSGML v1.0//EN
CALSCALE:GREGORIAN
METHOD:PUBLISH
X-WR-CALNAME:Prairie to Pine Regional Council
X-ORIGINAL-URL:https://staging.prairietopinerc.ca
X-WR-CALDESC:Events for Prairie to Pine Regional Council
REFRESH-INTERVAL;VALUE=DURATION:PT1H
X-Robots-Tag:noindex
X-PUBLISHED-TTL:PT1H
BEGIN:VTIMEZONE
TZID:America/Winnipeg
BEGIN:DAYLIGHT
TZOFFSETFROM:-0600
TZOFFSETTO:-0500
TZNAME:CDT
DTSTART:20210314T080000
END:DAYLIGHT
BEGIN:STANDARD
TZOFFSETFROM:-0500
TZOFFSETTO:-0600
TZNAME:CST
DTSTART:20211107T070000
END:STANDARD
BEGIN:DAYLIGHT
TZOFFSETFROM:-0600
TZOFFSETTO:-0500
TZNAME:CDT
DTSTART:20220313T080000
END:DAYLIGHT
BEGIN:STANDARD
TZOFFSETFROM:-0500
TZOFFSETTO:-0600
TZNAME:CST
DTSTART:20221106T070000
END:STANDARD
BEGIN:DAYLIGHT
TZOFFSETFROM:-0600
TZOFFSETTO:-0500
TZNAME:CDT
DTSTART:20230312T080000
END:DAYLIGHT
BEGIN:STANDARD
TZOFFSETFROM:-0500
TZOFFSETTO:-0600
TZNAME:CST
DTSTART:20231105T070000
END:STANDARD
BEGIN:DAYLIGHT
TZOFFSETFROM:-0600
TZOFFSETTO:-0500
TZNAME:CDT
DTSTART:20240310T080000
END:DAYLIGHT
BEGIN:STANDARD
TZOFFSETFROM:-0500
TZOFFSETTO:-0600
TZNAME:CST
DTSTART:20241103T070000
END:STANDARD
END:VTIMEZONE
BEGIN:VEVENT
DTSTART;TZID=America/Winnipeg:20231212T100000
DTEND;TZID=America/Winnipeg:20231212T100000
DTSTAMP:20260425T093807
CREATED:20220112T031438Z
LAST-MODIFIED:20220112T031438Z
UID:8779-1702375200-1702375200@staging.prairietopinerc.ca
SUMMARY:Pastoral Relations Commission meeting
DESCRIPTION:
URL:https://staging.prairietopinerc.ca/event/pastoral-relations-commission-meeting-2023-12-12/
END:VEVENT
BEGIN:VEVENT
DTSTART;TZID=America/Winnipeg:20231128T150000
DTEND;TZID=America/Winnipeg:20231128T150000
DTSTAMP:20260425T093807
CREATED:20220112T004818Z
LAST-MODIFIED:20220112T004818Z
UID:8752-1701183600-1701183600@staging.prairietopinerc.ca
SUMMARY:Ministry Personnel Support Gathering
DESCRIPTION:Gatherings will be held every two weeks on Tuesday afternoon at 3:00 p.m. Here is the Zoom link information.
URL:https://staging.prairietopinerc.ca/event/ministry-personnel-support-gathering-12-2023-11-28/
END:VEVENT
BEGIN:VEVENT
DTSTART;TZID=America/Winnipeg:20231114T150000
DTEND;TZID=America/Winnipeg:20231114T150000
DTSTAMP:20260425T093807
CREATED:20220112T004818Z
LAST-MODIFIED:20220112T004818Z
UID:8751-1699974000-1699974000@staging.prairietopinerc.ca
SUMMARY:Ministry Personnel Support Gathering
DESCRIPTION:Gatherings will be held every two weeks on Tuesday afternoon at 3:00 p.m. Here is the Zoom link information.
URL:https://staging.prairietopinerc.ca/event/ministry-personnel-support-gathering-12-2023-11-14/
END:VEVENT
BEGIN:VEVENT
DTSTART;TZID=America/Winnipeg:20231114T100000
DTEND;TZID=America/Winnipeg:20231114T100000
DTSTAMP:20260425T093807
CREATED:20220112T031438Z
LAST-MODIFIED:20220112T031438Z
UID:8778-1699956000-1699956000@staging.prairietopinerc.ca
SUMMARY:Pastoral Relations Commission meeting
DESCRIPTION:
URL:https://staging.prairietopinerc.ca/event/pastoral-relations-commission-meeting-2023-11-14/
END:VEVENT
BEGIN:VEVENT
DTSTART;TZID=America/Winnipeg:20231031T150000
DTEND;TZID=America/Winnipeg:20231031T150000
DTSTAMP:20260425T093807
CREATED:20220112T004818Z
LAST-MODIFIED:20220112T004818Z
UID:8750-1698764400-1698764400@staging.prairietopinerc.ca
SUMMARY:Ministry Personnel Support Gathering
DESCRIPTION:Gatherings will be held every two weeks on Tuesday afternoon at 3:00 p.m. Here is the Zoom link information.
URL:https://staging.prairietopinerc.ca/event/ministry-personnel-support-gathering-12-2023-10-31/
END:VEVENT
BEGIN:VEVENT
DTSTART;TZID=America/Winnipeg:20231017T150000
DTEND;TZID=America/Winnipeg:20231017T150000
DTSTAMP:20260425T093807
CREATED:20220112T004818Z
LAST-MODIFIED:20220112T004818Z
UID:8749-1697554800-1697554800@staging.prairietopinerc.ca
SUMMARY:Ministry Personnel Support Gathering
DESCRIPTION:Gatherings will be held every two weeks on Tuesday afternoon at 3:00 p.m. Here is the Zoom link information.
URL:https://staging.prairietopinerc.ca/event/ministry-personnel-support-gathering-12-2023-10-17/
END:VEVENT
BEGIN:VEVENT
DTSTART;TZID=America/Winnipeg:20231010T100000
DTEND;TZID=America/Winnipeg:20231010T100000
DTSTAMP:20260425T093807
CREATED:20220112T031438Z
LAST-MODIFIED:20220112T031438Z
UID:8777-1696932000-1696932000@staging.prairietopinerc.ca
SUMMARY:Pastoral Relations Commission meeting
DESCRIPTION:
URL:https://staging.prairietopinerc.ca/event/pastoral-relations-commission-meeting-2023-10-10/
END:VEVENT
BEGIN:VEVENT
DTSTART;TZID=America/Winnipeg:20231003T150000
DTEND;TZID=America/Winnipeg:20231003T150000
DTSTAMP:20260425T093807
CREATED:20220112T004818Z
LAST-MODIFIED:20220112T004818Z
UID:8748-1696345200-1696345200@staging.prairietopinerc.ca
SUMMARY:Ministry Personnel Support Gathering
DESCRIPTION:Gatherings will be held every two weeks on Tuesday afternoon at 3:00 p.m. Here is the Zoom link information.
URL:https://staging.prairietopinerc.ca/event/ministry-personnel-support-gathering-12-2023-10-03/
END:VEVENT
BEGIN:VEVENT
DTSTART;TZID=America/Winnipeg:20230919T150000
DTEND;TZID=America/Winnipeg:20230919T150000
DTSTAMP:20260425T093807
CREATED:20220112T004818Z
LAST-MODIFIED:20220112T004818Z
UID:8747-1695135600-1695135600@staging.prairietopinerc.ca
SUMMARY:Ministry Personnel Support Gathering
DESCRIPTION:Gatherings will be held every two weeks on Tuesday afternoon at 3:00 p.m. Here is the Zoom link information.
URL:https://staging.prairietopinerc.ca/event/ministry-personnel-support-gathering-12-2023-09-19/
END:VEVENT
BEGIN:VEVENT
DTSTART;TZID=America/Winnipeg:20230912T100000
DTEND;TZID=America/Winnipeg:20230912T100000
DTSTAMP:20260425T093807
CREATED:20220112T031438Z
LAST-MODIFIED:20220112T031438Z
UID:8776-1694512800-1694512800@staging.prairietopinerc.ca
SUMMARY:Pastoral Relations Commission meeting
DESCRIPTION:
URL:https://staging.prairietopinerc.ca/event/pastoral-relations-commission-meeting-2023-09-12/
END:VEVENT
BEGIN:VEVENT
DTSTART;TZID=America/Winnipeg:20230905T150000
DTEND;TZID=America/Winnipeg:20230905T150000
DTSTAMP:20260425T093807
CREATED:20220112T004818Z
LAST-MODIFIED:20220112T004818Z
UID:8746-1693926000-1693926000@staging.prairietopinerc.ca
SUMMARY:Ministry Personnel Support Gathering
DESCRIPTION:Gatherings will be held every two weeks on Tuesday afternoon at 3:00 p.m. Here is the Zoom link information.
URL:https://staging.prairietopinerc.ca/event/ministry-personnel-support-gathering-12-2023-09-05/
END:VEVENT
BEGIN:VEVENT
DTSTART;TZID=America/Winnipeg:20230822T150000
DTEND;TZID=America/Winnipeg:20230822T150000
DTSTAMP:20260425T093807
CREATED:20220112T004818Z
LAST-MODIFIED:20220112T004818Z
UID:8745-1692716400-1692716400@staging.prairietopinerc.ca
SUMMARY:Ministry Personnel Support Gathering
DESCRIPTION:Gatherings will be held every two weeks on Tuesday afternoon at 3:00 p.m. Here is the Zoom link information.
URL:https://staging.prairietopinerc.ca/event/ministry-personnel-support-gathering-12-2023-08-22/
END:VEVENT
BEGIN:VEVENT
DTSTART;TZID=America/Winnipeg:20230808T150000
DTEND;TZID=America/Winnipeg:20230808T150000
DTSTAMP:20260425T093807
CREATED:20220112T004818Z
LAST-MODIFIED:20220112T004818Z
UID:8744-1691506800-1691506800@staging.prairietopinerc.ca
SUMMARY:Ministry Personnel Support Gathering
DESCRIPTION:Gatherings will be held every two weeks on Tuesday afternoon at 3:00 p.m. Here is the Zoom link information.
URL:https://staging.prairietopinerc.ca/event/ministry-personnel-support-gathering-12-2023-08-08/
END:VEVENT
BEGIN:VEVENT
DTSTART;TZID=America/Winnipeg:20230808T100000
DTEND;TZID=America/Winnipeg:20230808T100000
DTSTAMP:20260425T093807
CREATED:20220112T031438Z
LAST-MODIFIED:20220112T031438Z
UID:8775-1691488800-1691488800@staging.prairietopinerc.ca
SUMMARY:Pastoral Relations Commission meeting
DESCRIPTION:
URL:https://staging.prairietopinerc.ca/event/pastoral-relations-commission-meeting-2023-08-08/
END:VEVENT
BEGIN:VEVENT
DTSTART;TZID=America/Winnipeg:20230725T150000
DTEND;TZID=America/Winnipeg:20230725T150000
DTSTAMP:20260425T093807
CREATED:20220112T004818Z
LAST-MODIFIED:20220112T004818Z
UID:8743-1690297200-1690297200@staging.prairietopinerc.ca
SUMMARY:Ministry Personnel Support Gathering
DESCRIPTION:Gatherings will be held every two weeks on Tuesday afternoon at 3:00 p.m. Here is the Zoom link information.
URL:https://staging.prairietopinerc.ca/event/ministry-personnel-support-gathering-12-2023-07-25/
END:VEVENT
BEGIN:VEVENT
DTSTART;TZID=America/Winnipeg:20230711T150000
DTEND;TZID=America/Winnipeg:20230711T150000
DTSTAMP:20260425T093807
CREATED:20220112T004818Z
LAST-MODIFIED:20220112T004818Z
UID:8742-1689087600-1689087600@staging.prairietopinerc.ca
SUMMARY:Ministry Personnel Support Gathering
DESCRIPTION:Gatherings will be held every two weeks on Tuesday afternoon at 3:00 p.m. Here is the Zoom link information.
URL:https://staging.prairietopinerc.ca/event/ministry-personnel-support-gathering-12-2023-07-11/
END:VEVENT
BEGIN:VEVENT
DTSTART;TZID=America/Winnipeg:20230711T100000
DTEND;TZID=America/Winnipeg:20230711T100000
DTSTAMP:20260425T093807
CREATED:20220112T031438Z
LAST-MODIFIED:20220112T031438Z
UID:8774-1689069600-1689069600@staging.prairietopinerc.ca
SUMMARY:Pastoral Relations Commission meeting
DESCRIPTION:
URL:https://staging.prairietopinerc.ca/event/pastoral-relations-commission-meeting-2023-07-11/
END:VEVENT
BEGIN:VEVENT
DTSTART;TZID=America/Winnipeg:20230627T150000
DTEND;TZID=America/Winnipeg:20230627T150000
DTSTAMP:20260425T093807
CREATED:20220112T004818Z
LAST-MODIFIED:20220112T004818Z
UID:8741-1687878000-1687878000@staging.prairietopinerc.ca
SUMMARY:Ministry Personnel Support Gathering
DESCRIPTION:Gatherings will be held every two weeks on Tuesday afternoon at 3:00 p.m. Here is the Zoom link information.
URL:https://staging.prairietopinerc.ca/event/ministry-personnel-support-gathering-12-2023-06-27/
END:VEVENT
BEGIN:VEVENT
DTSTART;TZID=America/Winnipeg:20230613T150000
DTEND;TZID=America/Winnipeg:20230613T150000
DTSTAMP:20260425T093807
CREATED:20220112T004818Z
LAST-MODIFIED:20220112T004818Z
UID:8740-1686668400-1686668400@staging.prairietopinerc.ca
SUMMARY:Ministry Personnel Support Gathering
DESCRIPTION:Gatherings will be held every two weeks on Tuesday afternoon at 3:00 p.m. Here is the Zoom link information.
URL:https://staging.prairietopinerc.ca/event/ministry-personnel-support-gathering-12-2023-06-13/
END:VEVENT
BEGIN:VEVENT
DTSTART;TZID=America/Winnipeg:20230613T100000
DTEND;TZID=America/Winnipeg:20230613T100000
DTSTAMP:20260425T093807
CREATED:20220112T031438Z
LAST-MODIFIED:20220112T031438Z
UID:8773-1686650400-1686650400@staging.prairietopinerc.ca
SUMMARY:Pastoral Relations Commission meeting
DESCRIPTION:
URL:https://staging.prairietopinerc.ca/event/pastoral-relations-commission-meeting-2023-06-13/
END:VEVENT
BEGIN:VEVENT
DTSTART;TZID=America/Winnipeg:20230530T150000
DTEND;TZID=America/Winnipeg:20230530T150000
DTSTAMP:20260425T093807
CREATED:20220112T004818Z
LAST-MODIFIED:20220112T004818Z
UID:8739-1685458800-1685458800@staging.prairietopinerc.ca
SUMMARY:Ministry Personnel Support Gathering
DESCRIPTION:Gatherings will be held every two weeks on Tuesday afternoon at 3:00 p.m. Here is the Zoom link information.
URL:https://staging.prairietopinerc.ca/event/ministry-personnel-support-gathering-12-2023-05-30/
END:VEVENT
BEGIN:VEVENT
DTSTART;TZID=America/Winnipeg:20230516T150000
DTEND;TZID=America/Winnipeg:20230516T150000
DTSTAMP:20260425T093807
CREATED:20220112T004818Z
LAST-MODIFIED:20220112T004818Z
UID:8738-1684249200-1684249200@staging.prairietopinerc.ca
SUMMARY:Ministry Personnel Support Gathering
DESCRIPTION:Gatherings will be held every two weeks on Tuesday afternoon at 3:00 p.m. Here is the Zoom link information.
URL:https://staging.prairietopinerc.ca/event/ministry-personnel-support-gathering-12-2023-05-16/
END:VEVENT
BEGIN:VEVENT
DTSTART;TZID=America/Winnipeg:20220507T090000
DTEND;TZID=America/Winnipeg:20220507T170000
DTSTAMP:20260425T093807
CREATED:20220112T003751Z
LAST-MODIFIED:20220112T003751Z
UID:8699-1651914000-1651942800@staging.prairietopinerc.ca
SUMMARY:Regional Council Annual Meeting
DESCRIPTION:
URL:https://staging.prairietopinerc.ca/event/regional-council-annual-meeting-2/
END:VEVENT
BEGIN:VEVENT
DTSTART;TZID=America/Winnipeg:20220506T180000
DTEND;TZID=America/Winnipeg:20220506T180000
DTSTAMP:20260425T093807
CREATED:20220112T003601Z
LAST-MODIFIED:20220112T003601Z
UID:8697-1651860000-1651860000@staging.prairietopinerc.ca
SUMMARY:Regional Council Annual Meeting
DESCRIPTION:
URL:https://staging.prairietopinerc.ca/event/regional-council-annual-meeting/
END:VEVENT
BEGIN:VEVENT
DTSTART;TZID=America/Winnipeg:20220401T193000
DTEND;TZID=America/Winnipeg:20220401T213000
DTSTAMP:20260425T093807
CREATED:20220314T195300Z
LAST-MODIFIED:20220314T200041Z
UID:9019-1648841400-1648848600@staging.prairietopinerc.ca
SUMMARY:Where They Come From: A Meditation on Eleanor Rigby
DESCRIPTION:Where They Come From: A Meditation on Eleanor Rigby \nIn 1966\, Paul McCartney wrote a remarkable song—Eleanor Rigby. Over the ensuing decades\, fascination with Eleanor and Father McKenzie has only grown. Who were they? Why were they lonely? \nThis year\, Interesting Theatre will provide our answers with Where They Come From: A Meditation on Eleanor Rigby\, written and directed by Tim Higgins. \nAct One will feature the Haskins Street Band as they explore the musical influences that informed the Fab Four’s remarkable creativity and led them to Eleanor. \nIn Act Two\, the company of Interesting Theatre tackles the questions more directly. The story is set in Winnipeg\, in the winter of 1920. Supported by The Elleston Trio\, you’ll watch two lives become intertwined in ways that neither could have imagined. \nWhere They Come From: A Meditation on Eleanor Rigby will be staged in the Sanctuary of Young United Church\, 222 Furby Street\, on Friday and Saturday\, April 1st and 2nd. Curtain is 7:30 both nights. Tickets are $20 (plus agency fees) and are available on EventBrite. Proof of vaccination will be required. Running time approx. two hours. \nHere is the link: https://www.eventbrite.ca/e/where-they-come-from-a-meditation-on-eleanor-rigby-tickets-277074095077 \nUniversal questions. Unforgettable characters. Amazing music. Join us for Where They Come From: A Meditation on Eleanor Rigby. All proceeds go to the work of Young United Church in the West Broadway neighbourhood. Donations gratefully accepted.
URL:https://staging.prairietopinerc.ca/event/where-they-come-from-a-mediation-on-eleanor-rigby/
CATEGORIES:Community of Faith Events calendar
ATTACH;FMTTYPE=image/jpeg:https://staging.prairietopinerc.ca/wp-content/uploads/2022/03/Rigby-colour-2-poster-1.jpg
END:VEVENT
BEGIN:VEVENT
DTSTART;TZID=America/Winnipeg:20220317T193000
DTEND;TZID=America/Winnipeg:20220317T210000
DTSTAMP:20260425T093807
CREATED:20220303T025831Z
LAST-MODIFIED:20220311T192728Z
UID:8987-1647545400-1647550800@staging.prairietopinerc.ca
SUMMARY:Refugee support and sponsorship get together
DESCRIPTION:17 March 2022\,  7:30PM Central Daylight. \nThis has been a strange and difficult two years for refugee support and advocacy. Come out for support\, conversation\, and updates.  We will be joined by Khwaka Kukubo\, General Council Refugee Program Advisor\, so bring your questions! Whether you’re new to this or have been involved for years please join us. Sponsored by the Living Skies Refugee Task Group. Invited: Northern Spirit\, Living Skies\, and Prairie to Pine Regional Councils\, and further afield if you wish. All welcome.  Register here (this gives you the link and reminders automatically). \n 
URL:https://staging.prairietopinerc.ca/event/refugee-support-and-sponsorship-get-together/
LOCATION:Zoom\, Canada
CATEGORIES:Events,Regional
ATTACH;FMTTYPE=image/png:https://staging.prairietopinerc.ca/wp-content/uploads/2022/03/RefugeesWelcomeBlackboard.png
END:VEVENT
BEGIN:VEVENT
DTSTART;TZID=America/Winnipeg:20220304T120000
DTEND;TZID=America/Winnipeg:20220304T130000
DTSTAMP:20260425T093807
CREATED:20220303T025146Z
LAST-MODIFIED:20220303T025146Z
UID:8983-1646395200-1646398800@staging.prairietopinerc.ca
SUMMARY:CCS Friday –  Becoming an Anti-Racist Church
DESCRIPTION:Join an online conversation to explore more about what it might mean to become an anti-racist church. How does an organization continue the process of institutional change to become a more intentionally anti-racist one? Together\, we’ll explore a continuum for becoming an anti-racism organization as well as the United Church’s national anti-racism action plan. The conversation will be facilitated by Adele Halliday who is the Anti-Racism and Equity Lead staff at the United Church’s General Council Office. An experienced anti-racism educator\, workshop leader\, and award-winning writer\, Adele has been involved in anti-racism work with churches in Canada and beyond for many years. She is currently staff resource to the United Church’s Anti-Racism Common Table. She holds a Master of Education as well as a Master of Theological Studies degree\, and is currently studying towards a Doctor of Education. \nYou can register at https://us02web.zoom.us/meeting/register/tZEkcuihqzspHtTmzSydBr3p3D-HMsqeODZi \nCCS Friday conversations are free. If you feel like making a donation to the Centre for Christian Studies\, that’s always appreciated. https://www.canadahelps.org/en/dn/5260
URL:https://staging.prairietopinerc.ca/event/ccs-friday-becoming-an-anti-racist-church/
LOCATION:Zoom\, Canada
CATEGORIES:Intercultural,Regional
ATTACH;FMTTYPE=image/png:https://staging.prairietopinerc.ca/wp-content/uploads/2022/03/Logo.png
ORGANIZER;CN="Centre for Christian Studies":MAILTO:info@ccsonline.ca
END:VEVENT
BEGIN:VEVENT
DTSTART;TZID=America/Winnipeg:20220212T183000
DTEND;TZID=America/Winnipeg:20220212T213000
DTSTAMP:20260425T093807
CREATED:20220122T183219Z
LAST-MODIFIED:20220122T183219Z
UID:8838-1644690600-1644701400@staging.prairietopinerc.ca
SUMMARY:Zeebu 2022 | A Virtual Games Night
DESCRIPTION:Zeebu 2022: A Virtual Games Night\nJoin us for fellowship\, worship\, and games! \nGame night treats will be mailed to youth who register by February 4th \nSaturday February 12th\, 6:30 -9:30 PM via Zoom\nAges: Grades 7 to Young Adult \nRegister Here!
URL:https://staging.prairietopinerc.ca/event/zeebu-2022-a-virtual-games-night/
LOCATION:via Zoom
END:VEVENT
BEGIN:VEVENT
DTSTART;TZID=America/Winnipeg:20220208T100000
DTEND;TZID=America/Winnipeg:20220208T100000
DTSTAMP:20260425T093807
CREATED:20220112T031438Z
LAST-MODIFIED:20220112T031452Z
UID:8756-1644314400-1644314400@staging.prairietopinerc.ca
SUMMARY:Pastoral Relations Commission meeting
DESCRIPTION:
URL:https://staging.prairietopinerc.ca/event/pastoral-relations-commission-meeting/
END:VEVENT
BEGIN:VEVENT
DTSTART;TZID=America/Winnipeg:20220203T040000
DTEND;TZID=America/Winnipeg:20220203T040000
DTSTAMP:20260425T093807
CREATED:20220112T003126Z
LAST-MODIFIED:20220112T003254Z
UID:8691-1643860800-1643860800@staging.prairietopinerc.ca
SUMMARY:Regional Council Executive
DESCRIPTION:
URL:https://staging.prairietopinerc.ca/event/regional-council-executive/
END:VEVENT
END:VCALENDAR