BEGIN:VCALENDAR
VERSION:2.0
PRODID:-//Prairie to Pine Regional Council - ECPv6.15.20//NONSGML v1.0//EN
CALSCALE:GREGORIAN
METHOD:PUBLISH
X-WR-CALNAME:Prairie to Pine Regional Council
X-ORIGINAL-URL:https://staging.prairietopinerc.ca
X-WR-CALDESC:Events for Prairie to Pine Regional Council
REFRESH-INTERVAL;VALUE=DURATION:PT1H
X-Robots-Tag:noindex
X-PUBLISHED-TTL:PT1H
BEGIN:VTIMEZONE
TZID:America/Winnipeg
BEGIN:DAYLIGHT
TZOFFSETFROM:-0600
TZOFFSETTO:-0500
TZNAME:CDT
DTSTART:20190310T080000
END:DAYLIGHT
BEGIN:STANDARD
TZOFFSETFROM:-0500
TZOFFSETTO:-0600
TZNAME:CST
DTSTART:20191103T070000
END:STANDARD
BEGIN:DAYLIGHT
TZOFFSETFROM:-0600
TZOFFSETTO:-0500
TZNAME:CDT
DTSTART:20200308T080000
END:DAYLIGHT
BEGIN:STANDARD
TZOFFSETFROM:-0500
TZOFFSETTO:-0600
TZNAME:CST
DTSTART:20201101T070000
END:STANDARD
BEGIN:DAYLIGHT
TZOFFSETFROM:-0600
TZOFFSETTO:-0500
TZNAME:CDT
DTSTART:20210314T080000
END:DAYLIGHT
BEGIN:STANDARD
TZOFFSETFROM:-0500
TZOFFSETTO:-0600
TZNAME:CST
DTSTART:20211107T070000
END:STANDARD
BEGIN:DAYLIGHT
TZOFFSETFROM:-0600
TZOFFSETTO:-0500
TZNAME:CDT
DTSTART:20220313T080000
END:DAYLIGHT
BEGIN:STANDARD
TZOFFSETFROM:-0500
TZOFFSETTO:-0600
TZNAME:CST
DTSTART:20221106T070000
END:STANDARD
END:VTIMEZONE
BEGIN:VEVENT
DTSTART;TZID=America/Winnipeg:20211118T190000
DTEND;TZID=America/Winnipeg:20211118T203000
DTSTAMP:20260425T231437
CREATED:20211102T014037Z
LAST-MODIFIED:20211102T014037Z
UID:8319-1637262000-1637267400@staging.prairietopinerc.ca
SUMMARY:Affirming get together for the Regional Council
DESCRIPTION:Affirm United S’affirmer Ensemble \nAffirming get together\, 18 November\, 7:00-8:30 PM (CST). Calling all Two Spirit and LGBTQIA+ Affirming\, in-process\, and seriously curious ministries! Join the Regional Equity and Diversity Committee for a get to know each other and support time together. Bring your good news\, your questions\, and your struggles to this time of prayer and conversation. \nClick here to register in advance. \nAfter registering\, you will receive a confirmation email containing information about joining the meeting.
URL:https://staging.prairietopinerc.ca/event/affirming-get-together-for-the-regional-council/
LOCATION:Zoom\, Canada
CATEGORIES:Events,Intercultural,LGBTQIA+ Affirming,Regional
ATTACH;FMTTYPE=image/jpeg:https://staging.prairietopinerc.ca/wp-content/uploads/2020/03/Canva-Colorful-Watercolor-Background-scaled-e1586895597780.jpg
END:VEVENT
BEGIN:VEVENT
DTSTART;TZID=America/Winnipeg:20210530T100000
DTEND;TZID=America/Winnipeg:20210530T113000
DTSTAMP:20260425T231437
CREATED:20210506T213543Z
LAST-MODIFIED:20210506T213636Z
UID:6165-1622368800-1622374200@staging.prairietopinerc.ca
SUMMARY:Prairie to Pine Affirming celebration
DESCRIPTION:All the people of the Regional Council and beyond are invited to gather Under the Same Rainbow in worship to celebrate Prairie to Pine becoming an Affirming ministry. Join us with your rainbows\, noisemakers\, and communion elements.\n\nAn Affirming ministry is a ministry formally designated as fully including and celebrating Two Spirit\, trans\, non-binary\, intersex\, bisexual\, asexual\, lesbian\, and gay people\, within the Affirm United/ S’affirmer Ensemble movement in the United Church of Canada. Our service will be a public worship. All welcome. \n\n\nWe will gather around an open table in all of our individuality\, our many colours\, languages\, abilities\, ages\, gender identities and expressions\, sexualities\, and more\, to share communion and celebrate Jesus’ love for us all. Together we will commit to the next stage of our Affirming journey together. \n\nThis celebration builds on the past and present work of many\, including the Affirming presbyteries within the Affirming Conference of Manitoba and NW Ontario\, and the many Affirming ministries and people within our Regional Council. More details and information on the link will be sent out soon. For now\, please hold the date and discuss in your community of faith whether you wish to bring your entire worshipping community to this service. This Affirming celebration will be part of Prairie to Pine’s annual meeting\, May 28-30\, and all are welcome.
URL:https://staging.prairietopinerc.ca/event/prairie-to-pine-affirming-celebration/
LOCATION:YouTube\, Canada
CATEGORIES:Events,LGBTQIA+ Affirming,Regional
ATTACH;FMTTYPE=image/png:https://staging.prairietopinerc.ca/wp-content/uploads/2021/05/Our-Place-in-the-Rainbow-1200x800-updated.png
END:VEVENT
BEGIN:VEVENT
DTSTART;TZID=America/Winnipeg:20200624T190000
DTEND;TZID=America/Winnipeg:20200624T203000
DTSTAMP:20260425T231437
CREATED:20200609T211415Z
LAST-MODIFIED:20200615T182906Z
UID:4798-1593025200-1593030600@staging.prairietopinerc.ca
SUMMARY:Breaking the Gender Binary\, One Word at a Time
DESCRIPTION:Conversations about gender diversity and the power of language\, 6:00PM in AB and SK\, 7:00PM in MB and NW ON. \nWhat is gender inclusive language and how does it have the power to embrace or exclude non-binary\, Two Spirit\, trans\, agender\, and gender queer people? Join us for a practical discussion about evolving language and personal perspectives on its importance. All welcome.\nThe Zoom link is here. Need to phone in? 1-855 703 8985 (Canada Toll-free) and enter meeting ID\n940 3191 7505\nPassword: 492676 \nThis gathering is especially recommended for Regional Council delegates who will be voting on Remit 1 this fall. In the fall of 2020\, delegates to the regional annual meeting will be voting on a remit to make a small but important change to the Basis of Union. Current wording about eligibility for ministry uses “men and women”\, and the wording would be changed to “all people”\, to reflect a diversity of gender identities. (Further background is here.)
URL:https://staging.prairietopinerc.ca/event/breaking-the-gender-binary-one-word-at-a-time/
LOCATION:Zoom\, Canada
CATEGORIES:Events,LGBTQIA+ Affirming,Regional
ATTACH;FMTTYPE=image/jpeg:https://staging.prairietopinerc.ca/wp-content/uploads/2020/06/NonBinaryFlag.jpg
END:VEVENT
BEGIN:VEVENT
DTSTART;TZID=America/Winnipeg:20200502T110000
DTEND;TZID=America/Winnipeg:20200502T170000
DTSTAMP:20260425T231437
CREATED:20200409T221306Z
LAST-MODIFIED:20200409T221500Z
UID:4475-1588417200-1588438800@staging.prairietopinerc.ca
SUMMARY:Affirming Leaders event online!
DESCRIPTION:You’re invited to the premiere Online Affirming Leaders Day!  \nJoin us from anywhere in the world on Saturday May 2. Visit our Eventbrite page for tickets. AND for a limited time\, we are offering a promo code for any staff or volunteers who work with any type of United Church Ministry.  \nEnter code: UCC for $5 off your registration!When: Saturday\, May 2\, 2020 – 10am-4pm MST \nWhere: On Zoom\, you can watch/listen from your computer\, tablet\, or smart phone\, from anywhere in the world! \nTickets: $10-$20. Every ticket type gives you access to ALL of the sessions.  \nEnter promo code: UCC for $5 off your registration.  \nAffirming Leaders Day is a faith-based development & connection day for allied and LGBTQ2S+ folks. All are welcome to join us online. \nFeaturing David Hayward – the cartoonist NakedPastor\, Shylo Rosborough\, Singer-Songwriter Kate Reid\, and Rev. Mark Chiang!  \nDavid Hayward\, aka the NakedPastor\, will share how he became a friend to LGBTQ+ people and is now considered by many to be an ally. He will also explain why he expresses himself and his ideas through his art and cartoons online. He will also share several of these through slides during his presentation. \nKate Reid: Slam poetry meets folk music meets LGBTQ+ themed tunes in singer-songwriter Kate Reid. Kate is funny\, passionate\, queer as a three-dollar bill\, and is sure to entertain. Kate will perform music and screen their recent short film on gender identity! \nRev. Mark Chiang: The Cultural Dynamics of Queer and Trans Ministry. The experience of queerness varies across the world. Without an awareness of our cultural differences\, we risk causing harm when engaging in ministry with LGBTQ+ newcomers to Canada when imposing our Canadian understanding of sexual identity. This workshop will introduce you to the scholarship of queer post-colonial theologians from Latin America\, Asia\, and Africa\, who demonstrate the role colonialism plays in shaping our debates on sexuality. \nShylo Rosborough: Transgender & Christian: A New Look at Gender in the Bible. This session will outline different ways to interpret what we find in the Bible about Gender and embodiment. \nVisit our Facebook event for the latest  \n 
URL:https://staging.prairietopinerc.ca/event/affirming-leaders-event-online/
LOCATION:Zoom\, Canada
CATEGORIES:LGBTQIA+ Affirming,Regional
ATTACH;FMTTYPE=image/png:https://staging.prairietopinerc.ca/wp-content/uploads/2020/04/AffirmingLeadersDayPoster-2May2020-square-e1586470302751.png
END:VEVENT
BEGIN:VEVENT
DTSTART;TZID=America/Winnipeg:20200314T130000
DTEND;TZID=America/Winnipeg:20200314T150000
DTSTAMP:20260425T231437
CREATED:20200303T155425Z
LAST-MODIFIED:20200303T155425Z
UID:3698-1584190800-1584198000@staging.prairietopinerc.ca
SUMMARY:Affirming PIE Day\, Dryden ON
DESCRIPTION:Live music\, board games\, card games\, tea\, coffee\, hot cocoa\, and… pie.\n$5 gets you all of this! All proceeds to Pride Week and PFLAG.\nSponsored by RAD\, RADish\, PFLAG\, and First United Church. \nVENUE: First United Church\, 23 Van Horne Ave\, Dryden ON.
URL:https://staging.prairietopinerc.ca/event/affirming-pie-day-dryden-on/
LOCATION:First United Church\, 23 Van Horne Ave\, Dryden\, ON\, Canada
CATEGORIES:LGBTQIA+ Affirming
ATTACH;FMTTYPE=image/jpeg:https://staging.prairietopinerc.ca/wp-content/uploads/2020/03/DrydenON-PIEDay2020-poster.jpg
END:VEVENT
BEGIN:VEVENT
DTSTART;TZID=America/Winnipeg:20200314T080000
DTEND;TZID=America/Winnipeg:20200314T100000
DTSTAMP:20260425T231437
CREATED:20181127T014740Z
LAST-MODIFIED:20200228T201156Z
UID:474-1584172800-1584180000@staging.prairietopinerc.ca
SUMMARY:PIE celebration\, Brandon MB
DESCRIPTION:Join us Sat\, Mar 14\, 2020 1:00pm – 3:00pm! We will gather from 1:00 to approximately 3:00 pm\, guest speaker Sarah Bruer will speak about “Public. Intentional. Explicit: It Matters!”\, displays: resources/books available and various supportive groups (eg. Sexuality Education Resource Centre\, PFLAG) followed by mingling and pie and other goodies! Open to all! \nContact: Laura Crookshanks\nEmail: crooks@wcgwave.ca\nPhone: 204 728 2935
URL:https://staging.prairietopinerc.ca/event/valentines-day-conference/
LOCATION:Knox United Church\, 451 - 18th Street\, Brandon\, MB\, R7A 5Y2\, Canada
CATEGORIES:Events,LGBTQIA+ Affirming
ATTACH;FMTTYPE=image/jpeg:https://staging.prairietopinerc.ca/wp-content/uploads/2018/11/Love-PIE-Card-square-by-little-rainbow-paper-co-e1582920687295.jpg
END:VEVENT
BEGIN:VEVENT
DTSTART;TZID=America/Winnipeg:20200314T050000
DTEND;TZID=America/Winnipeg:20200314T070000
DTSTAMP:20260425T231437
CREATED:20181122T235610Z
LAST-MODIFIED:20200228T195319Z
UID:356-1584162000-1584169200@staging.prairietopinerc.ca
SUMMARY:PIE DAY\, Steinbach MB
DESCRIPTION:Join in the conversation about being Public\, Intentional and Explicit! These three values guide a welcoming and affirming church. Come for pie\, watch an Affirming video and take part in conversation circles about affirming ministry. All Welcome. \nContact: Lois Burr\nEmail: burr.lois@gmail.com \nLocation: CE Hall\, Steinbach United Church
URL:https://staging.prairietopinerc.ca/event/pie-day-steinbach/
LOCATION:Steinbach United Church\, 341 Main Street\, Steinbach\, MB\, Canada
CATEGORIES:Events,LGBTQIA+ Affirming
ATTACH;FMTTYPE=image/png:https://staging.prairietopinerc.ca/wp-content/uploads/2018/11/PIE-Day-2020-Poster-Logo-WEB-e1582919467324.png
END:VEVENT
BEGIN:VEVENT
DTSTART;TZID=America/Winnipeg:20200308T123000
DTEND;TZID=America/Winnipeg:20200308T143000
DTSTAMP:20260425T231437
CREATED:20181125T234627Z
LAST-MODIFIED:20200228T201348Z
UID:353-1583670600-1583677800@staging.prairietopinerc.ca
SUMMARY:PIE Day 2020\, Winnipeg Manitoba
DESCRIPTION:Join us Sunday\, Mar 8\, 2020 11:30am – 1:00pm for our PIE Day Potluck Gathering. Our usual after worship Sunday Potluck will be celebrated\, with people encouraged to bring different pies to share\, and join us for a viewing of the PIE Day video with some time for discussion. \nContact: Stacey Milne-Ciecko\nEmail: ce@ucim.org\nPhone: 204-250-7119 \nMore Info: https://ucim.org/pie-day/ \n 
URL:https://staging.prairietopinerc.ca/event/pie-day-2020-winnipeg/
LOCATION:United Church in Meadowood\, 1111 Dakota Street\, Winnipeg\, MB\, R2N 3T7\, Canada
CATEGORIES:Events,LGBTQIA+ Affirming,Worship
ATTACH;FMTTYPE=image/png:https://staging.prairietopinerc.ca/wp-content/uploads/2018/11/PIE-Day-2020-Poster-Logo-WEB-e1582919467324.png
END:VEVENT
END:VCALENDAR